BEGIN:VCALENDAR
VERSION:2.0
PRODID:-//ChamberMaster//Event Calendar 2.0//EN
METHOD:PUBLISH
X-PUBLISHED-TTL:P3D
REFRESH-INTERVAL:P3D
CALSCALE:GREGORIAN
BEGIN:VEVENT
DTSTART:20200328T190000Z
DTEND:20200405T200000Z
X-MICROSOFT-CDO-ALLDAYEVENT:FALSE
SUMMARY:You're A Good Man\, Charlie Brown
DESCRIPTION:Charlie Brown\, Snoopy\, and the whole Peanuts gang jump from page to stage in this beloved musical! Watch your favorite childhood characters explore life's greatest questions as they play baseball\, swoon over their crushes\, run 5 cent psychiatry booths\, and celebrate the joys of friendship.
X-ALT-DESC;FMTTYPE=text/html:Charlie Brown\, Snoopy\, and the whole Peanuts gang jump from page to stage in this beloved musical! Watch your favorite childhood characters explore life&rsquo\;s greatest questions as they play baseball\, swoon over their crushes\, run 5 cent psychiatry booths\, and celebrate the joys of friendship.
LOCATION:All performances are held at the intimate Kam & James Morris Theatre at TexARTS' Erin Doherty Studios\, 2300 Lohman's Spur\, Suite #160\, Lakeway\, TX. The lounge opens one hour prior to curtain and offers soda\, water and light snacks.
UID:e.2123.10099
SEQUENCE:3
DTSTAMP:20260423T030509Z
URL:https://laketravischamberfest.com/events/details/you-re-a-good-man-charlie-brown-10099
END:VEVENT

END:VCALENDAR
