BEGIN:VCALENDAR
VERSION:2.0
PRODID:-//ChamberMaster//Event Calendar 2.0//EN
METHOD:PUBLISH
X-PUBLISHED-TTL:P3D
REFRESH-INTERVAL:P3D
CALSCALE:GREGORIAN
BEGIN:VEVENT
DTSTART:20190216T013000Z
DTEND:20190303T180000Z
X-MICROSOFT-CDO-ALLDAYEVENT:FALSE
SUMMARY:Xanadu
DESCRIPTION:Join us for the Broadway hit musical Xanadu\, based on the 1980 Olivia Newton-John and Gene Kelly cult classic film. This hilarious story is very simple-\, a muse comes to Earth and inspires an artist to open a roller disco! Seriously. Featuring a cast of lunatics and the music of the Electric Light Orchestra and Olivia Newton-John\, Xanadu is one of the giddiest\, silliest\, sweetest stage musicals you could ever hope to see. Starring: Mandy Foster\, Daniel Drewes\, Huck Huckaby\, Amy Nichols\, Megan Richards Wright\, Jessica O'Brien\, Emily Villarreal\, Cam Haas\, and Jonathan A. Contreras
X-ALT-DESC;FMTTYPE=text/html:Join us for the Broadway hit musical Xanadu\, based on the 1980 Olivia Newton-John and Gene Kelly cult classic film. This hilarious story is very simple-\, a muse comes to Earth and inspires an artist to open a roller disco! Seriously. Featuring a cast of lunatics and the music of the Electric Light Orchestra and Olivia Newton-John\, Xanadu is one of the giddiest\, silliest\, sweetest stage musicals you could ever hope to see. Starring: Mandy Foster\, Daniel Drewes\, Huck Huckaby\, Amy Nichols\, Megan Richards Wright\, Jessica O&rsquo\;Brien\, Emily Villarreal\, Cam Haas\, and Jonathan A. Contreras
LOCATION:TexARTS Association 2300 Lohman's Spur Suite 160\, Austin\, TX 78734
UID:e.2123.9831
SEQUENCE:3
DTSTAMP:20260422T072059Z
URL:https://laketravischamberfest.com/events/details/xanadu-02-15-2019-9831
END:VEVENT

END:VCALENDAR
