BEGIN:VCALENDAR
VERSION:2.0
PRODID:-//ChamberMaster//Event Calendar 2.0//EN
METHOD:PUBLISH
X-PUBLISHED-TTL:P3D
REFRESH-INTERVAL:P3D
CALSCALE:GREGORIAN
BEGIN:VEVENT
DTSTART:20181113T160000Z
DTEND:20181113T230000Z
X-MICROSOFT-CDO-ALLDAYEVENT:FALSE
SUMMARY:World War I 100'th Anniversary Mobile Museum
DESCRIPTION:Journey through history and experience the the artifacts\, stories and heroes of The Great War at the World War I 100th Anniversary Mobile Museum. The Mobile Museum was created as a way to bring the history of World War I to our seniors and veterans wherever they live. Admission is free and open to the public. Refreshments will be served. RSVP to 512-402-1800.
X-ALT-DESC;FMTTYPE=text/html:Journey through history and experience the the artifacts\, stories and heroes of The Great War at the World War I 100th Anniversary Mobile Museum. The Mobile Museum was created as a way to bring the history of World War I to our seniors and veterans wherever they live. Admission is free and open to the public. Refreshments will be served. RSVP to 512-402-1800.
LOCATION:Belmont Village Senior Living - Lakeway
UID:e.2123.9769
SEQUENCE:3
DTSTAMP:20260422T024449Z
URL:https://laketravischamberfest.com/events/details/world-war-i-100-th-anniversary-mobile-museum-9769
END:VEVENT

END:VCALENDAR
