BEGIN:VCALENDAR
VERSION:2.0
PRODID:-//ChamberMaster//Event Calendar 2.0//EN
METHOD:PUBLISH
X-PUBLISHED-TTL:P3D
REFRESH-INTERVAL:P3D
CALSCALE:GREGORIAN
BEGIN:VEVENT
DTSTART:20210506T220000Z
DTEND:20210506T230000Z
X-MICROSOFT-CDO-ALLDAYEVENT:FALSE
SUMMARY:Workforce Housing Stakeholders Meeting
DESCRIPTION:Got employees? Need employees? We know you do! As an employer in the area struggling or potentially struggling to recruit and retain employees\, you are invited to hear from a developer planning a project for attainable/workforce housing just north of the city of Lakeway and within the city of Lakeway. \n\n \n\nWe have heard from so many of you wanting to find a solution to this issue in our community and we are hoping this may be a great start. Please\, mark your calendar\, register and join us for this very important meeting.
X-ALT-DESC;FMTTYPE=text/html:<div style="color: rgb(34\, 34\, 34)\; font-family: Arial\, Helvetica\, sans-serif\; font-size: small\;"><strong>Got employees? Need employees? </strong>We know you do! As an employer in the area struggling or potentially struggling to recruit and retain employees\, you are invited to hear from a developer planning a project for attainable/workforce housing just north of the city of Lakeway and within the city of Lakeway.&nbsp\;</div>\n\n<div style="color: rgb(34\, 34\, 34)\; font-family: Arial\, Helvetica\, sans-serif\; font-size: small\;">&nbsp\;</div>\n\n<div style="color: rgb(34\, 34\, 34)\; font-family: Arial\, Helvetica\, sans-serif\; font-size: small\;">We have heard from so many of you wanting to find a solution to this issue in our community and we are hoping this may be a great start. Please\, mark your calendar\, register and join us for this very important meeting.&nbsp\;</div>\n
LOCATION:La Quinta Inn Lakeway - located in the Oaks. 1943 Medical Dr\, Lakeway\, TX 78734 Austin\, TX 78734
UID:e.2123.10366
SEQUENCE:3
DTSTAMP:20260423T235828Z
URL:https://laketravischamberfest.com/events/details/workforce-housing-stakeholders-meeting-10366
END:VEVENT

END:VCALENDAR
