BEGIN:VCALENDAR
VERSION:2.0
PRODID:-//ChamberMaster//Event Calendar 2.0//EN
METHOD:PUBLISH
X-PUBLISHED-TTL:P3D
REFRESH-INTERVAL:P3D
CALSCALE:GREGORIAN
BEGIN:VEVENT
DTSTART:20220316T220000Z
DTEND:20220317T000000Z
X-MICROSOFT-CDO-ALLDAYEVENT:FALSE
SUMMARY:Workforce Housing Community Discussion
DESCRIPTION:The Conine Residential Group is hosting an Open House for the public to better understand what workforce housing is and how it will benefit the Lake Travis business community.\n\n \n\nAs proposed\, the Nightingale at Lakeway project would construct 248 apartment units on an 8-acre lot with the idea that the units would be made available to individuals and families earning on average 60% of the area median income. Conine Residential Group\, under the direction of Kent and Meg Conine\, have brought the project to Lakeway for consideration.
X-ALT-DESC;FMTTYPE=text/html:<div align="center" style="color: rgb(56\, 72\, 86)\; font-family: Arial\, Verdana\, Helvetica\, sans-serif\; font-size: 14px\; text-align: center\;">\n<div style="color: rgb(56\, 72\, 86)\; font-family: Arial\, Verdana\, Helvetica\, sans-serif\; font-size: 14px\;">The&nbsp\;<span style="color: rgb(0\, 0\, 0)\;">Conine Residential Group is hosting an&nbsp\;</span><span style="color: rgb(34\, 34\, 34)\;">Open House for the public to better understand what workforce housing is and how it will benefit the Lake Travis business community.</span></div>\n\n<div style="color: rgb(56\, 72\, 86)\; font-family: Arial\, Verdana\, Helvetica\, sans-serif\; font-size: 14px\;">&nbsp\;</div>\n\n<div style="color: rgb(56\, 72\, 86)\; font-family: Arial\, Verdana\, Helvetica\, sans-serif\; font-size: 14px\;"><span style="color: rgb(0\, 0\, 0)\;">As proposed\, the Nightingale at Lakeway project would construct 248 apartment units on an 8-acre lot with the idea that the units would be made available to individuals and families earning on average 60% of the area median income. Conine Residential Group\, under the direction of Kent and Meg Conine\, have brought the project to Lakeway for consideration.</span></div>\n</div>\n
LOCATION:Bee Creek Open House Lakeway Activity Center\, Room F
UID:e.2123.11113
SEQUENCE:3
DTSTAMP:20260424T014444Z
URL:https://laketravischamberfest.com/events/details/workforce-housing-community-discussion-11113
END:VEVENT

END:VCALENDAR
