BEGIN:VCALENDAR
VERSION:2.0
PRODID:-//ChamberMaster//Event Calendar 2.0//EN
METHOD:PUBLISH
X-PUBLISHED-TTL:P3D
REFRESH-INTERVAL:P3D
CALSCALE:GREGORIAN
BEGIN:VEVENT
DTSTART:20190223T010000Z
DTEND:20190223T053000Z
X-MICROSOFT-CDO-ALLDAYEVENT:FALSE
SUMMARY:Wonders & Worries Unmasked Gala
DESCRIPTION:You're invited to join your friends and colleagues on Feb. 22\, 2019 at the JW Marriott Austin for the 5th Annual Wonders & Worries Unmasked Gala! Presented by Texas Oncology and chaired by Kristen Patton & Steve Goldsmith\, you'll enjoy the mystery and celebration of a Venetian Carnival. Proceeds benefit Wonders & Worries\, an Austin-based nonprofit providing professional support to children and families through a parent's serious illness. Cocktail attire and masks encouraged.
X-ALT-DESC;FMTTYPE=text/html:You&rsquo\;re invited to join your friends and colleagues on Feb. 22\, 2019 at the JW Marriott Austin for the 5th Annual Wonders &amp\; Worries Unmasked Gala! Presented by Texas Oncology and chaired by Kristen Patton &amp\; Steve Goldsmith\, you&#39\;ll enjoy the mystery and celebration of a Venetian Carnival. Proceeds benefit Wonders &amp\; Worries\, an Austin-based nonprofit providing professional support to children and families through a parent&rsquo\;s serious illness. Cocktail attire and masks encouraged.
LOCATION:JW Marriott Austin
UID:e.2123.9812
SEQUENCE:3
DTSTAMP:20260422T085622Z
URL:https://laketravischamberfest.com/events/details/wonders-worries-unmasked-gala-9812
END:VEVENT

END:VCALENDAR
