BEGIN:VCALENDAR
VERSION:2.0
PRODID:-//ChamberMaster//Event Calendar 2.0//EN
METHOD:PUBLISH
X-PUBLISHED-TTL:P3D
REFRESH-INTERVAL:P3D
CALSCALE:GREGORIAN
BEGIN:VEVENT
DTSTART;VALUE=DATE:20201228
DTEND;VALUE=DATE:20210101
TRANSP:TRANSPARENT
X-MICROSOFT-CDO-ALLDAYEVENT:TRUE
SUMMARY:Winter Break Musical Theatre Camp
DESCRIPTION:TexARTS Winter Break Camp   "Best of: Descendants" Ages 5   14 "Be Our Guest" and join us for the "Best of Descendants" musical theatre camp! We'll join Carlos\, Jay\, Evie and Mal at Auradon Preparatory to learn and perform songs from the films. You'll learn simple dance combinations\, make crafts\, and more!
X-ALT-DESC;FMTTYPE=text/html:TexARTS Winter Break Camp &ndash\; &quot\;Best of: Descendants&quot\; Ages 5 &ndash\; 14 &ldquo\;Be Our Guest&rdquo\; and join us for the &ldquo\;Best of Descendants&ldquo\; musical theatre camp! We&rsquo\;ll join Carlos\, Jay\, Evie and Mal at Auradon Preparatory to learn and perform songs from the films. You&rsquo\;ll learn simple dance combinations\, make crafts\, and more!
LOCATION:2300 Lohman's Spur Suite 160\, Austin\, TX 78734
UID:e.2123.10170
SEQUENCE:3
DTSTAMP:20260423T164432Z
URL:https://laketravischamberfest.com/events/details/winter-break-musical-theatre-camp-10170
END:VEVENT

END:VCALENDAR
