BEGIN:VCALENDAR
VERSION:2.0
PRODID:-//ChamberMaster//Event Calendar 2.0//EN
METHOD:PUBLISH
X-PUBLISHED-TTL:P3D
REFRESH-INTERVAL:P3D
CALSCALE:GREGORIAN
BEGIN:VEVENT
DTSTART:20191205T233000Z
DTEND:20191206T033000Z
X-MICROSOFT-CDO-ALLDAYEVENT:FALSE
SUMMARY:Wine Women & Shoes
DESCRIPTION:Wine Women & Shoes 2019 Benefiting Marble Falls Educaition Foundation Wine Tasting\, Designer Shopping\, Fashion Show\, Dinner\, Charming "Shoe Guys" and more!
X-ALT-DESC;FMTTYPE=text/html:Wine Women &amp\; Shoes 2019 Benefiting Marble Falls Educaition Foundation Wine Tasting\, Designer Shopping\, Fashion Show\, Dinner\, Charming &quot\;Shoe Guys&quot\; and more!
LOCATION:Featherstone Ranch 870 Klein Rd Stonewall\, TX 78671
UID:e.2123.10000
SEQUENCE:3
DTSTAMP:20260422T225638Z
URL:https://laketravischamberfest.com/events/details/wine-women-shoes-10000
END:VEVENT

END:VCALENDAR
