BEGIN:VCALENDAR
VERSION:2.0
PRODID:-//ChamberMaster//Event Calendar 2.0//EN
METHOD:PUBLISH
X-PUBLISHED-TTL:P3D
REFRESH-INTERVAL:P3D
CALSCALE:GREGORIAN
BEGIN:VEVENT
DTSTART:20180929T150000Z
DTEND:20180930T020000Z
X-MICROSOFT-CDO-ALLDAYEVENT:FALSE
SUMMARY:Wild Kitchen + Bar Grand Opening Event
DESCRIPTION:Our Grand Opening celebration will be an all-day\, family friendly event featuring acoustic music\, a curated makers market\, and a pop up beer garden featuring breweries from around Austin\, TX and tastings from Texas Distilleries. Menus Lunch Menu: 10am - 3pm   Happy Hour & Bar Menu: 3pm - 6pm   Dinner Menu: 5pm - 11pm Activities / Entertainment   Local Makers Market: 10 am - 5 pm - Support local shops\, makers\, artists\, farmers & more! *   Music on the Green: 10 am - 9 pm - Live acoustic music from local artists     Pop up Beer Garden & Satellite Bar: 2-9 pm - Featuring breweries from around Austin + Tastings from Texas Distilleries including Balcones Distillery - The Wild Satellite Bar will serve our infusion cocktails on the green.   Family Friendly Activities: All Day ? 1/2 off miniature golf games all day! ? Face painting ? Corn Hole ? Natural playscape ? Giant Jenga & other bar games
X-ALT-DESC;FMTTYPE=text/html:Our Grand Opening celebration will be an all-day\, family friendly event featuring acoustic music\, a curated makers market\, and a pop up beer garden featuring breweries from around Austin\, TX and tastings from Texas Distilleries. Menus Lunch Menu: 10am - 3pm &bull\; Happy Hour &amp\; Bar Menu: 3pm - 6pm &bull\; Dinner Menu: 5pm - 11pm Activities / Entertainment &bull\; Local Makers Market: 10 am - 5 pm - Support local shops\, makers\, artists\, farmers &amp\; more! * &bull\; Music on the Green: 10 am - 9 pm - Live acoustic music from local artists &bull\; &bull\; Pop up Beer Garden &amp\; Satellite Bar: 2-9 pm - Featuring breweries from around Austin + Tastings from Texas Distilleries including Balcones Distillery - The Wild Satellite Bar will serve our infusion cocktails on the green. &bull\; Family Friendly Activities: All Day ? 1/2 off miniature golf games all day! ? Face painting ? Corn Hole ? Natural playscape ? Giant Jenga &amp\; other bar games
LOCATION:Wild Kitchen + Bar 15506 W HWY 71\, #C Bee Cave\, TX 78738
UID:e.2123.9727
SEQUENCE:3
DTSTAMP:20260421T232951Z
URL:https://laketravischamberfest.com/events/details/wild-kitchen-bar-grand-opening-event-9727
END:VEVENT

END:VCALENDAR
