BEGIN:VCALENDAR
VERSION:2.0
PRODID:-//ChamberMaster//Event Calendar 2.0//EN
METHOD:PUBLISH
X-PUBLISHED-TTL:P3D
REFRESH-INTERVAL:P3D
CALSCALE:GREGORIAN
BEGIN:VEVENT
DTSTART:20180615T170000Z
DTEND:20180615T180000Z
X-MICROSOFT-CDO-ALLDAYEVENT:FALSE
SUMMARY:What You Need to Know About Your Credit Score
DESCRIPTION:Learn about your credit report and tips for protecting yourself from fraud and identity theft. A light lunch will be provided\, so RSVP to lisa.crawford@firstunitedbank.com or (830) 798-3128.
X-ALT-DESC;FMTTYPE=text/html:Learn about your credit report and tips for protecting yourself from fraud and identity theft. A light lunch will be provided\, so RSVP to lisa.crawford@firstunitedbank.com or (830) 798-3128.
LOCATION:Lake Travis Community Library 1938 Lohmans Crossing Austin\, Texas 78734
UID:e.2123.9660
SEQUENCE:3
DTSTAMP:20260421T192725Z
URL:https://laketravischamberfest.com/events/details/what-you-need-to-know-about-your-credit-score-9660
END:VEVENT

END:VCALENDAR
