BEGIN:VCALENDAR
VERSION:2.0
PRODID:-//ChamberMaster//Event Calendar 2.0//EN
METHOD:PUBLISH
X-PUBLISHED-TTL:P3D
REFRESH-INTERVAL:P3D
CALSCALE:GREGORIAN
BEGIN:VEVENT
DTSTART:20180819T180000Z
DTEND:20180819T200000Z
X-MICROSOFT-CDO-ALLDAYEVENT:FALSE
SUMMARY:Wellness with Oils 101
DESCRIPTION:Wellness with Essential 101: A great health and wellness workshop highlighting essential oils and how they can be a supportive outlet for sleep\, digestion\, emotional balance and all the bodily systems. You'll learn the what's\, why's and how's of Essential Oils while keeping it light\, fun and of course educational. Come and experience first hand the benefits essential oils.
X-ALT-DESC;FMTTYPE=text/html:Wellness with Essential 101: A great health and wellness workshop highlighting essential oils and how they can be a supportive outlet for sleep\, digestion\, emotional balance and all the bodily systems. You&rsquo\;ll learn the what&rsquo\;s\, why&rsquo\;s and how&rsquo\;s of Essential Oils while keeping it light\, fun and of course educational. Come and experience first hand the benefits essential oils.
LOCATION:Lakeway Activity Center
UID:e.2123.9694
SEQUENCE:3
DTSTAMP:20260421T222049Z
URL:https://laketravischamberfest.com/events/details/wellness-with-oils-101-9694
END:VEVENT

END:VCALENDAR
