BEGIN:VCALENDAR
VERSION:2.0
PRODID:-//ChamberMaster//Event Calendar 2.0//EN
METHOD:PUBLISH
X-PUBLISHED-TTL:P3D
REFRESH-INTERVAL:P3D
CALSCALE:GREGORIAN
BEGIN:VEVENT
DTSTART:20200515T150000Z
DTEND:20200515T160000Z
X-MICROSOFT-CDO-ALLDAYEVENT:FALSE
SUMMARY:Webinar: SBA & People Fund Covid 19 Resources
DESCRIPTION:The SBA and PeopleFund are teaming up on May 15th to provide you with the most up to date disaster assistance resources for your business. There will be a Q&A session following a short presentation so you can get all of your questions asked and answered.\n\n \n\nAnyone in the state of Texas is welcome to attend!\n\n \n\nTopics covered:\n     Announcement on EIDL advances\n\n     PPP is still alive for any that have not filed\n\n     EIDL in second round for Agriculture companies\n\n     EIDL applicants who were series 2 and need to reapply\n\n     Debt relief discussion\n\n     SBA bridge express\n\n     Additional disaster funding resources\n\n     Q&A with Anthony Ruiz\, District Director\, San Antonio District Office\, U.S. Small Business Administration\n\n \n\nSpace is limited\, please register to participate!\n\n\n\nREGISTER HERE
X-ALT-DESC;FMTTYPE=text/html:<div style="color:rgb(34\, 34\, 34)\;font-family:Roboto\, RobotoDraft\, Helvetica\, Arial\, sans-serif\;font-size:small\;"><span style="color:#231f20\;"><span style="font-size:13pt\;">The SBA and PeopleFund are teaming up on May 15th to provide you with the most up to date disaster assistance resources for your business. There will be a Q&amp\;A session following a short presentation so you can get all of your questions asked and answered.</span></span></div>\n\n<div style="color:rgb(34\, 34\, 34)\;font-family:Roboto\, RobotoDraft\, Helvetica\, Arial\, sans-serif\;font-size:small\;">&nbsp\;</div>\n\n<div style="color:rgb(34\, 34\, 34)\;font-family:Roboto\, RobotoDraft\, Helvetica\, Arial\, sans-serif\;font-size:small\;"><strong><span style="color:#231f20\;"><span style="font-size:13pt\;">Anyone in the state of Texas is welcome to attend!</span></span></strong></div>\n\n<div style="color:rgb(34\, 34\, 34)\;font-family:Roboto\, RobotoDraft\, Helvetica\, Arial\, sans-serif\;font-size:small\;">&nbsp\;</div>\n\n<div style="color:rgb(34\, 34\, 34)\;font-family:Roboto\, RobotoDraft\, Helvetica\, Arial\, sans-serif\;font-size:small\;"><span style="color:#231f20\;"><span style="font-size:13pt\;">Topics covered:</span></span></div>\n<span style="color:#231f20\;"><span style="font-family:symbol\;"><span style="font-size:10pt\;">&middot\;&nbsp\;&nbsp\;&nbsp\;&nbsp\;</span></span></span><span style="color:#231f20\;"><span style="font-size:13pt\;">Announcement on EIDL advances</span></span><br />\n<span style="color:#231f20\;"><span style="font-family:symbol\;"><span style="font-size:10pt\;">&middot\;&nbsp\;&nbsp\;&nbsp\;&nbsp\;</span></span></span><span style="color:#231f20\;"><span style="font-size:13pt\;">PPP is still alive for any that have not filed</span></span><br />\n<span style="color:#231f20\;"><span style="font-family:symbol\;"><span style="font-size:10pt\;">&middot\;&nbsp\;&nbsp\;&nbsp\;&nbsp\;</span></span></span><span style="color:#231f20\;"><span style="font-size:13pt\;">EIDL in second round for Agriculture companies</span></span><br />\n<span style="color:#231f20\;"><span style="font-family:symbol\;"><span style="font-size:10pt\;">&middot\;&nbsp\;&nbsp\;&nbsp\;&nbsp\;</span></span></span><span style="color:#231f20\;"><span style="font-size:13pt\;">EIDL applicants who were series 2 and need to reapply</span></span><br />\n<span style="color:#231f20\;"><span style="font-family:symbol\;"><span style="font-size:10pt\;">&middot\;&nbsp\;&nbsp\;&nbsp\;&nbsp\;</span></span></span><span style="color:#231f20\;"><span style="font-size:13pt\;">Debt relief discussion</span></span><br />\n<span style="color:#231f20\;"><span style="font-family:symbol\;"><span style="font-size:10pt\;">&middot\;&nbsp\;&nbsp\;&nbsp\;&nbsp\;</span></span></span><span style="color:#231f20\;"><span style="font-size:13pt\;">SBA bridge express</span></span><br />\n<span style="color:#231f20\;"><span style="font-family:symbol\;"><span style="font-size:10pt\;">&middot\;&nbsp\;&nbsp\;&nbsp\;&nbsp\;</span></span></span><span style="color:#231f20\;"><span style="font-size:13pt\;">Additional disaster funding resources</span></span><br />\n<span style="color:#231f20\;"><span style="font-family:symbol\;"><span style="font-size:10pt\;">&middot\;&nbsp\;&nbsp\;&nbsp\;&nbsp\;</span></span></span><span style="color:#231f20\;"><span style="font-size:13pt\;">Q&amp\;A with Anthony Ruiz\, District Director\,&nbsp\;San Antonio District Office\,&nbsp\;U.S. Small Business Administration</span></span>\n\n<div style="color:rgb(34\, 34\, 34)\;font-family:Roboto\, RobotoDraft\, Helvetica\, Arial\, sans-serif\;font-size:small\;">&nbsp\;</div>\n\n<div style="color:rgb(34\, 34\, 34)\;font-family:Roboto\, RobotoDraft\, Helvetica\, Arial\, sans-serif\;font-size:small\;"><strong><span style="color:#231f20\;"><span style="font-size:13pt\;">Space is limited\, please register to participate!<br />\n<br />\n<a href="https://peoplefund.org/covid19-webinar/" target="_blank"><span style="background-color:#FFFF00\;">REGISTER HERE</span></a></span></span></strong></div>\n
LOCATION:
UID:e.2123.10114
SEQUENCE:3
DTSTAMP:20260423T055622Z
URL:https://laketravischamberfest.com/events/details/webinar-sba-people-fund-covid-19-resources-10114
END:VEVENT

END:VCALENDAR
