BEGIN:VCALENDAR
VERSION:2.0
PRODID:-//ChamberMaster//Event Calendar 2.0//EN
METHOD:PUBLISH
X-PUBLISHED-TTL:P3D
REFRESH-INTERVAL:P3D
CALSCALE:GREGORIAN
BEGIN:VEVENT
DTSTART:20200515T180000Z
DTEND:20200515T191500Z
X-MICROSOFT-CDO-ALLDAYEVENT:FALSE
SUMMARY:Webinar: 6 Steps To Move Forward And Grow A Business That Will Work Without You
DESCRIPTION:6 Steps To Move Forward And Grow A Business That Will Work Without You\n\nPresentation by :\n\n\n\nDr. Michael Hartley | Austin's Top Executive & Business Accelerator\n\n\n\nDiscover which of the steps you've mastered and what your next phase of business is asking from you.  Solve your business problems\, once and for all.\n\n\nThe business climate is uncertain. That's why you\, as an owner\, need to sharpen your tools and get to work. There's a great opportunity to improve on what you've done so far and re-create what hasn't been working. The time is now. Learn what it takes to grow a business that does well for you\, for your community and family and that you can plan to EXIT one day. This could be your turning point. Register and join us May 15th 1pm-2:15pm. Link to join will be sent out with a reminder 2hrs before event.\n\nWe will delve into the secrets of successful business owners and their time-tested principles of how to:\n\n- Gain control of your time\, team and money\n\n- How to plan in an ever-changing environment\n\n- Turn your marketing into an investment\, not an expense\n\n- How to navigate threats\, manage emotions and stay focused on what really matters\n\n- Multiply your customers\, revenue and profits\n\n- Balancing how to manage short-term challenges and mid-range impacts with long-term goals\n\n- Leverage team\, systems\, technology and marketing\n\n- Recruit\, motivate and retain a winning team of employees to create a profitable company culture\n\n- Steps to financial mastery and understanding the numbers that drive any business\n\n- What your business needs to do NOW to stay on track for your 2020 goals\n\nCome learn and network among your peers.\n\nTo Your Success\,\n\nActionCOACH ATX | Austin's #1 Business Accelerator and Coach
X-ALT-DESC;FMTTYPE=text/html:<h1 background-color:="" class="listing-hero-title" data-automation="listing-title" helvetica="" neue="" style="margin: 0px auto\; padding: 0px 0px 2px\; font-size: 20px\; display: -webkit-box\; -webkit-line-clamp: 4\; -webkit-box-orient: vertical\; overflow: hidden\; text-overflow: ellipsis\; color: rgb(30\, 10\, 60)\; font-weight: 600\; line-height: 21px\; letter-spacing: 0.5px\; word-break: break-word\; font-family: ">6 Steps To Move Forward And Grow A Business That Will Work Without You</h1>\n\n<p><span style="color:#0000FF\;"><strong><span style="font-size:18px\;"><span style="font-family:arial\;">Presentation by :<br />\n<br />\n<span style="letter-spacing: 0.5px\; background-color: rgba(255\, 255\, 255\, 0.9)\; text-decoration-line: underline\;">Dr. Michael Hartley | Austin&#39\;s Top Executive &amp\; Business Accelerator</span></span></span></strong></span><br />\n<br />\nDiscover which of the steps you&#39\;ve mastered and what your next phase of business is asking from you.&nbsp\; Solve your business problems\, once and for all.</p>\n\n<div>\n<p>The business climate is uncertain. That&#39\;s why you\, as an owner\, need to sharpen your tools and get to work. There&#39\;s a great opportunity to improve on what you&#39\;ve done so far and re-create what hasn&#39\;t been working. The time is now. Learn what it takes to grow a business that does well for you\, for your community and family and that you can plan to EXIT one day. This could be your turning point. Register and join us&nbsp\;May 15th 1pm-2:15pm. <strong>Link to join will be sent out with a reminder 2hrs before event.</strong></p>\n\n<p>We will delve into the secrets of successful business owners and their time-tested principles of how to:</p>\n\n<p>- Gain control of your time\, team and money</p>\n\n<p>- How to plan in an ever-changing environment</p>\n\n<p>- Turn your marketing into an investment\, not an expense</p>\n\n<p>- How to navigate threats\, manage emotions and stay focused on what really matters</p>\n\n<p>- Multiply your customers\, revenue and profits</p>\n\n<p>- Balancing how to manage short-term challenges and mid-range impacts with long-term goals</p>\n\n<p>- Leverage team\, systems\, technology and marketing</p>\n\n<p>- Recruit\, motivate and retain a winning team of employees to create a profitable company culture</p>\n\n<p>- Steps to financial mastery and understanding the numbers that drive any business</p>\n\n<p>- What your business needs to do NOW to stay on track for your 2020 goals</p>\n\n<p>Come learn and network among your peers.</p>\n\n<p>To Your Success\,</p>\n\n<p>ActionCOACH ATX | Austin&#39\;s #1 Business Accelerator and Coach</p>\n\n<div>&nbsp\;</div>\n</div>\n\n<div class="structured-content__module l-mar-vert-6 l-sm-mar-vert-4 text-body-medium" style="margin: 30px 0px\; padding: 0px\; font-size: 14.9333px\; line-height: 1.25rem\; color: rgb(57\, 54\, 79)\; font-family: &quot\;Neue Plak&quot\;\, -apple-system\, BlinkMacSystemFont\, Roboto\, &quot\;Helvetica Neue&quot\;\, Helvetica\, Tahoma\, Arial\, sans-serif\; letter-spacing: 0.5px\;">&nbsp\;</div>\n
LOCATION:REGISTER HERE
UID:e.2123.10112
SEQUENCE:3
DTSTAMP:20260423T055811Z
URL:https://laketravischamberfest.com/events/details/webinar-6-steps-to-move-forward-and-grow-a-business-that-will-work-without-you-10112
END:VEVENT

END:VCALENDAR
