BEGIN:VCALENDAR
VERSION:2.0
PRODID:-//ChamberMaster//Event Calendar 2.0//EN
METHOD:PUBLISH
X-PUBLISHED-TTL:P3D
REFRESH-INTERVAL:P3D
CALSCALE:GREGORIAN
BEGIN:VEVENT
DTSTART:20181001T170000Z
DTEND:20181001T210000Z
X-MICROSOFT-CDO-ALLDAYEVENT:FALSE
SUMMARY:Voter Registration
DESCRIPTION:Are you registered to vote? The library will host a voter registration and information table in our lobby on Monday\, October 1st from 12pm to 4pm\, with trained Travis County voter registrars.
X-ALT-DESC;FMTTYPE=text/html:Are you registered to vote? The library will host a voter registration and information table in our lobby on Monday\, October 1st from 12pm to 4pm\, with trained Travis County voter registrars.
LOCATION:Lake Travis Community Library 1938 Lohmans Crossing Austin\, Texas 78734
UID:e.2123.9723
SEQUENCE:3
DTSTAMP:20260422T024321Z
URL:https://laketravischamberfest.com/events/details/voter-registration-9723
END:VEVENT

END:VCALENDAR
