BEGIN:VCALENDAR
VERSION:2.0
PRODID:-//ChamberMaster//Event Calendar 2.0//EN
METHOD:PUBLISH
X-PUBLISHED-TTL:P3D
REFRESH-INTERVAL:P3D
CALSCALE:GREGORIAN
BEGIN:VEVENT
DTSTART:20200427T180000Z
DTEND:20200427T190000Z
X-MICROSOFT-CDO-ALLDAYEVENT:FALSE
SUMMARY:Virtual Chamber Roundtable for Businesses
DESCRIPTION:Join us for an interactive meeting to learn how we can help and support one another's business.\n\nRegister by clicking HERE
X-ALT-DESC;FMTTYPE=text/html:<span style="font-size:18px\;"><span style="font-family:arial\;"><strong>Join us for an interactive meeting to learn how we can help and support one another&#39\;s business.</strong><br />\n<span style="color:#FF0000\;"><strong>Register by clicking <a href="https://zoom.us/meeting/register/tJcpc--trjgvGtw8Pypf2aOnmLeynE2noaGl" target="_blank">HERE</a></strong></span></span></span>
LOCATION:ZOOM - Register HERE
UID:e.2123.10105
SEQUENCE:3
DTSTAMP:20260423T042846Z
URL:https://laketravischamberfest.com/events/details/virtual-chamber-roundtable-for-businesses-10105
END:VEVENT

END:VCALENDAR
