BEGIN:VCALENDAR
VERSION:2.0
PRODID:-//ChamberMaster//Event Calendar 2.0//EN
METHOD:PUBLISH
X-PUBLISHED-TTL:P3D
REFRESH-INTERVAL:P3D
CALSCALE:GREGORIAN
BEGIN:VEVENT
DTSTART:20201003T123000Z
DTEND:20210103T180000Z
X-MICROSOFT-CDO-ALLDAYEVENT:FALSE
SUMMARY:Virtual Buffalo Stampede Half Marathon & 5K 2020
DESCRIPTION:Join us for the 12th Annual Virtual BUFFALO STAMPEDE Half Marathon & 5K Races perfect for runners & walkers of ALL ages! This year\, due to COVID-19\, the Stampede will be in a Virtual Race format. We can fight COVID-19 together by staying healthy and active - run or walk the 2020 Stampede anytime\, anywhere from October 3\, 2020 - January 3\, 2021.
X-ALT-DESC;FMTTYPE=text/html:Join us for the 12th Annual Virtual BUFFALO STAMPEDE Half Marathon &amp\; 5K Races perfect for runners &amp\; walkers of ALL ages! This year\, due to COVID-19\, the Stampede will be in a Virtual Race format. We can fight COVID-19 together by staying healthy and active - run or walk the 2020 Stampede anytime\, anywhere from October 3\, 2020 - January 3\, 2021.
LOCATION:Virtual
UID:e.2123.10155
SEQUENCE:3
DTSTAMP:20260423T134212Z
URL:https://laketravischamberfest.com/events/details/virtual-buffalo-stampede-half-marathon-5k-2020-10155
END:VEVENT

END:VCALENDAR
