BEGIN:VCALENDAR
VERSION:2.0
PRODID:-//ChamberMaster//Event Calendar 2.0//EN
METHOD:PUBLISH
X-PUBLISHED-TTL:P3D
REFRESH-INTERVAL:P3D
CALSCALE:GREGORIAN
BEGIN:VEVENT
DTSTART:20200507T213000Z
DTEND:20200507T230000Z
X-MICROSOFT-CDO-ALLDAYEVENT:FALSE
SUMMARY:Virtual 7 on 7 Seven ZOOMtastic Marketing Ideas During Uncertain Times
DESCRIPTION:This Happy Hour program will feature 7 ideas on how to market your company during these quarantine times. You can still engage your customers and clients using audio and visual technology like ZOOM\, Go To Meeting\, Facebook Live and others.\n\n\n\nContent is still king. Learn from Darren Drewitz\, co-founder and media strategist for MindEcology\, a full-service Austin-based marketing firm.\n\n\n\nSo reserve your space\, grab a drink and log on to ZOOM on May 7th from 4:30 to 6:00 pm.\n\nRegister by clicking HERE
X-ALT-DESC;FMTTYPE=text/html:<span style="font-size:16px\;"><strong>This Happy Hour program will feature 7 ideas on how to market your company during these quarantine times. You can still engage your customers and clients using audio and visual technology like ZOOM\, Go To Meeting\, Facebook Live and others.<br />\n<br />\nContent is still king. Learn from Darren Drewitz\, co-founder and media strategist for MindEcology\, a full-service Austin-based marketing firm.<br />\n<br />\nSo reserve your space\, grab a drink and log on to ZOOM on May 7th from 4:30 to 6:00 pm.</strong></span><br />\n<span style="font-size:18px\;"><span style="font-family:arial\;"><span style="color:#FF0000\;"><strong>Register by clicking <a href="https://us02web.zoom.us/webinar/register/WN_KiCioCnVQYGLFkMsD2RjUQ">HERE</a></strong></span></span></span>
LOCATION:ZOOM - Register HERE
UID:e.2123.10106
SEQUENCE:3
DTSTAMP:20260423T060729Z
URL:https://laketravischamberfest.com/events/details/virtual-7-on-7-seven-zoomtastic-marketing-ideas-during-uncertain-times-10106
END:VEVENT

END:VCALENDAR
