BEGIN:VCALENDAR
VERSION:2.0
PRODID:-//ChamberMaster//Event Calendar 2.0//EN
METHOD:PUBLISH
X-PUBLISHED-TTL:P3D
REFRESH-INTERVAL:P3D
CALSCALE:GREGORIAN
BEGIN:VEVENT
DTSTART:20200115T170000Z
DTEND:20200115T190000Z
X-MICROSOFT-CDO-ALLDAYEVENT:FALSE
SUMMARY:Vietnamese Pho Class
DESCRIPTION:Chef Rachel Zierzow\, natural foods chef and holistic health coach\, will introduce you to delicious Vietnamese Pho!  This pho is nourishing\, comforting\, and mineral rich.  Vietnamese Pho with Aromatic Vegetable Broth\, Shiitake Mushrooms\, Seasonal Vegetables\, and Rice Noodles. Come in from the cold and learn how to make your own pho noodle soup\, without MSG or other additives! We'll make a delicious and mineral-rich homemade vegetable broth with ginger and warming spices\, seasonal vegetables\, saut ed shiitake mushrooms\, and rice noodles. Served with fresh mung bean sprouts\, scallions\, basil\, mint\, cilantro\, and lime.
X-ALT-DESC;FMTTYPE=text/html:Chef Rachel Zierzow\, natural foods chef and holistic health coach\, will introduce you to delicious Vietnamese Pho!&nbsp\; This pho is nourishing\, comforting\, and mineral rich.&nbsp\; Vietnamese Pho with Aromatic Vegetable Broth\, Shiitake Mushrooms\, Seasonal Vegetables\, and Rice Noodles. Come in from the cold and learn how to make your own pho noodle soup\, without MSG or other additives! We&rsquo\;ll make a delicious and mineral-rich homemade vegetable broth with ginger and warming spices\, seasonal vegetables\, saut&eacute\;ed shiitake mushrooms\, and rice noodles. Served with fresh mung bean sprouts\, scallions\, basil\, mint\, cilantro\, and lime.
LOCATION:Con' Olio 3500 Ranch Road 620 S\, Ste F-400 Bee Cave\, Texas 78738
UID:e.2123.10048
SEQUENCE:3
DTSTAMP:20260423T002441Z
URL:https://laketravischamberfest.com/events/details/vietnamese-pho-class-10048
END:VEVENT

END:VCALENDAR
