BEGIN:VCALENDAR
VERSION:2.0
PRODID:-//ChamberMaster//Event Calendar 2.0//EN
METHOD:PUBLISH
X-PUBLISHED-TTL:P3D
REFRESH-INTERVAL:P3D
CALSCALE:GREGORIAN
BEGIN:VEVENT
DTSTART:20190624T140000Z
DTEND:20190628T170000Z
X-MICROSOFT-CDO-ALLDAYEVENT:FALSE
SUMMARY:VBS 2019 Power Up! Raise Your Game!
DESCRIPTION:Join us for our 2019 VBS Power Up experience teaching kids to "Raise Your Game" with Bible stories & classic video games (think Pac Man). Kids will learn how "God's power has given us everything we need to live a godly life." 2 Peter 1:3a. For kids entering K-5th Grade in Fall 2019. Kids from birth through Pre-K may attend with an adult who volunteers for the week.
X-ALT-DESC;FMTTYPE=text/html:Join us for our 2019 VBS Power Up experience teaching kids to &ldquo\;Raise Your Game&rdquo\; with Bible stories &amp\; classic video games (think Pac Man). Kids will learn how &ldquo\;God&rsquo\;s power has given us everything we need to live a godly life.&rdquo\; 2 Peter 1:3a. For kids entering K-5th Grade in Fall 2019. Kids from birth through Pre-K may attend with an adult who volunteers for the week.
LOCATION:The Lakeway Church 2203 Lakeway Blvd. Lakeway\, TX 78734
UID:e.2123.9898
SEQUENCE:3
DTSTAMP:20260422T134813Z
URL:https://laketravischamberfest.com/events/details/vbs-2019-power-up-raise-your-game-9898
END:VEVENT

END:VCALENDAR
