BEGIN:VCALENDAR
VERSION:2.0
PRODID:-//ChamberMaster//Event Calendar 2.0//EN
METHOD:PUBLISH
X-PUBLISHED-TTL:P3D
REFRESH-INTERVAL:P3D
CALSCALE:GREGORIAN
BEGIN:VEVENT
DTSTART:20200205T170000Z
DTEND:20200205T190000Z
X-MICROSOFT-CDO-ALLDAYEVENT:FALSE
SUMMARY:Valentines cooking class with Friends
DESCRIPTION:Share your love for good food with our special Valentines Cooking Class! Come with a friend\, a co-worker\, or your sweetheart to cook up an elegant Italian meal that is beautiful and healthy! The class is on February 5th\, so still gives you time to prepare the same meal at home on Valentine's Day! The menu says it all: Wild Mushroom Risotto with Fresh Thyme\; Insalata Mista with Dried Figs\, Kumquat\, Pecans\, and Pomegranate Vinaigrette\; and Dark Chocolate Olive Oil Cake with Sicilian Pistachio Ganache (gluten and dairy-free).   The class will provide light snacks of Marcona almonds and olives\, and wine can be purchased for an additional fee. Tickets are nonrefundable and will be emailed with your emailed purchase receipt.
X-ALT-DESC;FMTTYPE=text/html:Share your love for good food with our special&nbsp\;Valentines Cooking Class!&nbsp\;Come with a friend\, a co-worker\, or your sweetheart to cook up an elegant Italian meal that is beautiful and healthy!&nbsp\;The class is on&nbsp\;February 5th\, so still gives you time to prepare the same meal at home on Valentine&#39\;s Day! The menu says it all:&nbsp\;Wild Mushroom Risotto with Fresh Thyme\; Insalata Mista with Dried Figs\, Kumquat\, Pecans\, and Pomegranate Vinaigrette\; and Dark Chocolate Olive Oil Cake with Sicilian Pistachio Ganache (gluten and dairy-free). &nbsp\; The class will provide light snacks of Marcona almonds and olives\, and wine can be purchased for an additional fee. Tickets are nonrefundable and will be emailed with your emailed purchase receipt.&nbsp\;
LOCATION:Con' Olio Oils & Vinegars 3500 Ranch Road 620 S\, Ste F-400 Bee Cave\, Texas 78738
UID:e.2123.10067
SEQUENCE:3
DTSTAMP:20260423T015116Z
URL:https://laketravischamberfest.com/events/details/valentines-cooking-class-with-friends-10067
END:VEVENT

END:VCALENDAR
