BEGIN:VCALENDAR
VERSION:2.0
PRODID:-//ChamberMaster//Event Calendar 2.0//EN
METHOD:PUBLISH
X-PUBLISHED-TTL:P3D
REFRESH-INTERVAL:P3D
CALSCALE:GREGORIAN
BEGIN:VEVENT
DTSTART:20190215T000000Z
DTEND:20190215T030000Z
X-MICROSOFT-CDO-ALLDAYEVENT:FALSE
SUMMARY:Valentine's Dinner at Lakeway Resort and Spa's TR
DESCRIPTION:Lakeway Resort and Spa invites guests to enjoy a romantic Valentine's Dinner at signature restaurant TR\, featuring a special menu with southwest style cuisine overlooking the beautiful Lake Travis. Offered from 6 to 9 p.m. on Thurs\, Feb.14\, Valentine's dinner menu selections include Beef Capraccio and Texas Crab Cake to start\, Cedar Plank Salmon with char brussels and fennel citrus slaw\, or Duxelles Filet with garlic mash potatoes and cauliflower. For dessert\, Vanilla Mango Panna Cotta with mascarpone\, vanilla and mango glaze tops the experience. Reservations are requested for dinner and can be made by calling (512) 261-7323 or online through Open Table. Adults dine for $70 per person.
X-ALT-DESC;FMTTYPE=text/html:Lakeway Resort and Spa invites guests to enjoy a romantic Valentine&rsquo\;s Dinner at signature restaurant TR\, featuring a special menu with southwest style cuisine overlooking the beautiful Lake Travis. Offered from 6 to 9 p.m. on Thurs\, Feb.14\, Valentine&rsquo\;s dinner menu selections include Beef Capraccio and Texas Crab Cake to start\, Cedar Plank Salmon with char brussels and fennel citrus slaw\, or Duxelles Filet with garlic mash potatoes and cauliflower. For dessert\, Vanilla Mango Panna Cotta with mascarpone\, vanilla and mango glaze tops the experience. Reservations are requested for dinner and can be made by calling (512) 261-7323 or online through Open Table. Adults dine for $70 per person.
LOCATION:101 Lakeway Dr\, Lakeway\, Texas 78734
UID:e.2123.9823
SEQUENCE:3
DTSTAMP:20260422T072709Z
URL:https://laketravischamberfest.com/events/details/valentine-s-dinner-at-lakeway-resort-and-spa-s-tr-9823
END:VEVENT

END:VCALENDAR
