BEGIN:VCALENDAR
VERSION:2.0
PRODID:-//ChamberMaster//Event Calendar 2.0//EN
METHOD:PUBLISH
X-PUBLISHED-TTL:P3D
REFRESH-INTERVAL:P3D
CALSCALE:GREGORIAN
BEGIN:VEVENT
DTSTART:20180618T140000Z
DTEND:20180622T170000Z
X-MICROSOFT-CDO-ALLDAYEVENT:FALSE
SUMMARY:Vacation Bible School
DESCRIPTION:AMPED! VACATION BIBLE SCHOOL 2018 is going to be ELECTRIFYINGLY fun! We don't know if that's a real word\, but we DO know that you're going to have an EXTREMELY awesome VBS this year! God wants us to live our lives FULLY ALIVE because we can believe that what He says is TRUE!   Monday thru Friday\, June 18-23\, 9:00 to noon each day   VBS is for kids from Kinder through 5th grade\; nursery is available   Cost is $25 per child\, with a $50 maximum per family (no matter how many kids from that one family)   Register your kids and/or sign up to volunteer at lakewaychurch.org/childrens-ministry   If you volunteer for the week (M-F\, 9 am to noon)\, your kids attend FREE!   For more information\, contact Melissa Taylor
X-ALT-DESC;FMTTYPE=text/html:AMPED! VACATION BIBLE SCHOOL 2018 is going to be ELECTRIFYINGLY fun! We don&rsquo\;t know if that&rsquo\;s a real word\, but we DO know that you&rsquo\;re going to have an EXTREMELY awesome VBS this year! God wants us to live our lives FULLY ALIVE because we can believe that what He says is TRUE! &bull\; Monday thru Friday\, June 18-23\, 9:00 to noon each day &bull\; VBS is for kids from Kinder through 5th grade\; nursery is available &bull\; Cost is $25 per child\, with a $50 maximum per family (no matter how many kids from that one family) &bull\; Register your kids and/or sign up to volunteer at lakewaychurch.org/childrens-ministry &bull\; If you volunteer for the week (M-F\, 9 am to noon)\, your kids attend FREE! &bull\; For more information\, contact Melissa Taylor
LOCATION:The Lakeway Church 2203 Lakeway Blvd. Lakeway\, TX 78734
UID:e.2123.9662
SEQUENCE:3
DTSTAMP:20260421T192208Z
URL:https://laketravischamberfest.com/events/details/vacation-bible-school-9662
END:VEVENT

END:VCALENDAR
