BEGIN:VCALENDAR
VERSION:2.0
PRODID:-//ChamberMaster//Event Calendar 2.0//EN
METHOD:PUBLISH
X-PUBLISHED-TTL:P3D
REFRESH-INTERVAL:P3D
CALSCALE:GREGORIAN
BEGIN:VEVENT
DTSTART:20190518T180000Z
DTEND:20190518T210000Z
X-MICROSOFT-CDO-ALLDAYEVENT:FALSE
SUMMARY:Tuscan Village Horseshoe Bay - Grand Opening
DESCRIPTION:Join us as we celebrate the grand opening of Horseshoe Bay's premier 55+ resort-style community in Summit Rock. Tuscan Village has recently completed construction on model homes and invites you to be among the first to tour them. Explore the community and learn about the resort-style amenities that truly define The Good Life. Experience all that The Good Life has to offer you or a loved one. Live Entertainment   Italian Cuisine   Wine & Signature Cocktails Giveaways   Model Home Tours
X-ALT-DESC;FMTTYPE=text/html:Join us as we celebrate the grand opening of Horseshoe Bay&rsquo\;s premier 55+ resort-style community in Summit Rock. Tuscan Village has recently completed construction on model homes and invites you to be among the first to tour them. Explore the community and learn about the resort-style amenities that truly define The Good Life. Experience all that The Good Life has to offer you or a loved one. Live Entertainment &bull\; Italian Cuisine &bull\; Wine &amp\; Signature Cocktails Giveaways &bull\; Model Home Tours
LOCATION:311 Mayapple Rd Horseshoe Bay\, Texas 78657
UID:e.2123.9901
SEQUENCE:3
DTSTAMP:20260422T122051Z
URL:https://laketravischamberfest.com/events/details/tuscan-village-horseshoe-bay-grand-opening-9901
END:VEVENT

END:VCALENDAR
