BEGIN:VCALENDAR
VERSION:2.0
PRODID:-//ChamberMaster//Event Calendar 2.0//EN
METHOD:PUBLISH
X-PUBLISHED-TTL:P3D
REFRESH-INTERVAL:P3D
CALSCALE:GREGORIAN
BEGIN:VEVENT
DTSTART:20200129T190000Z
DTEND:20200129T200000Z
X-MICROSOFT-CDO-ALLDAYEVENT:FALSE
SUMMARY:Treating Anxiety\, Depression\, and Insomnia
DESCRIPTION:Treating Anxiety\, Depression\, and Insomnia - Wednesday\, January 29th at 1pm - Lake Travis Integrative Medicine will share their approach to treating these common health concerns. If you or a loved one are affected by anxiety\, depression\, or insomnia\, or if you just want to learn more\, come to this informative class.
X-ALT-DESC;FMTTYPE=text/html:Treating Anxiety\, Depression\, and Insomnia - Wednesday\, January 29th at 1pm - Lake Travis Integrative Medicine will share their approach to treating these common health concerns. If you or a loved one are affected by anxiety\, depression\, or insomnia\, or if you just want to learn more\, come to this informative class.
LOCATION:Lake Travis Community Library 1938 Lohmans Crossing Austin\, Texas 78734
UID:e.2123.10043
SEQUENCE:3
DTSTAMP:20260423T003317Z
URL:https://laketravischamberfest.com/events/details/treating-anxiety-depression-and-insomnia-10043
END:VEVENT

END:VCALENDAR
