BEGIN:VCALENDAR
VERSION:2.0
PRODID:-//ChamberMaster//Event Calendar 2.0//EN
METHOD:PUBLISH
X-PUBLISHED-TTL:P3D
REFRESH-INTERVAL:P3D
CALSCALE:GREGORIAN
BEGIN:VEVENT
DTSTART:20190406T160000Z
DTEND:20190428T170000Z
X-MICROSOFT-CDO-ALLDAYEVENT:FALSE
SUMMARY:Treasure Island in the Bay of Bengal
DESCRIPTION:Austin Scottish Rite Theatre presents Treasure Island in the Bay of Bengal! Come on a swashbuckling adventure with fun new characters mirroring some old favorites from Robert Louis Stevenson's original tale.
X-ALT-DESC;FMTTYPE=text/html:Austin Scottish Rite Theatre presents Treasure Island in the Bay of Bengal! Come on a swashbuckling adventure with fun new characters mirroring some old favorites from Robert Louis Stevenson&#39\;s original tale.
LOCATION:Austin Scottish Rite Theater 207 W 18th St. Austin\, TX 78701
UID:e.2123.9852
SEQUENCE:3
DTSTAMP:20260422T122120Z
URL:https://laketravischamberfest.com/events/details/treasure-island-in-the-bay-of-bengal-9852
END:VEVENT

END:VCALENDAR
