BEGIN:VCALENDAR
VERSION:2.0
PRODID:-//ChamberMaster//Event Calendar 2.0//EN
METHOD:PUBLISH
X-PUBLISHED-TTL:P3D
REFRESH-INTERVAL:P3D
CALSCALE:GREGORIAN
BEGIN:VEVENT
DTSTART:20180514T190000Z
DTEND:20180514T200000Z
X-MICROSOFT-CDO-ALLDAYEVENT:FALSE
SUMMARY:Top 10 Tips to Improve Your Writing
DESCRIPTION:Top 10 Tips to Improve Your Writing - Monday\, May 14th at 2pm - Local author and editor Pat Dunlap Evans will provide ten tips to help you become a better writer. Whether it is an email or a full length work\, this class will help!
X-ALT-DESC;FMTTYPE=text/html:Top 10 Tips to Improve Your Writing - Monday\, May 14th at 2pm - Local author and editor Pat Dunlap Evans will provide ten tips to help you become a better writer. Whether it is an email or a full length work\, this class will help!
LOCATION:Lake Travis Community Library 1938 Lohmans Crossing Austin\, Texas 78734
UID:e.2123.9624
SEQUENCE:3
DTSTAMP:20260421T175738Z
URL:https://laketravischamberfest.com/events/details/top-10-tips-to-improve-your-writing-9624
END:VEVENT

END:VCALENDAR
