BEGIN:VCALENDAR
VERSION:2.0
PRODID:-//ChamberMaster//Event Calendar 2.0//EN
METHOD:PUBLISH
X-PUBLISHED-TTL:P3D
REFRESH-INTERVAL:P3D
CALSCALE:GREGORIAN
BEGIN:VEVENT
DTSTART:20190605T150000Z
DTEND:20190710T160000Z
X-MICROSOFT-CDO-ALLDAYEVENT:FALSE
SUMMARY:Too Many Stories
DESCRIPTION:Kallie catches Sam and Bogus getting away with loot they've stolen from a department store shopper. With the help of the kids in the Austin Scottish Rite Theater audience\, a smart little girl outwits and exhausts the bad guys through story\, music\, and improvisation.
X-ALT-DESC;FMTTYPE=text/html:Kallie catches Sam and Bogus getting away with loot they&#39\;ve stolen from a department store shopper. With the help of the kids in the Austin Scottish Rite Theater audience\, a smart little girl outwits and exhausts the bad guys through story\, music\, and improvisation.
LOCATION:Austin Scottish Rite Theater 207 West 18th St. Austin\, TX 78701
UID:e.2123.9902
SEQUENCE:3
DTSTAMP:20260422T134640Z
URL:https://laketravischamberfest.com/events/details/too-many-stories-9902
END:VEVENT

END:VCALENDAR
