BEGIN:VCALENDAR
VERSION:2.0
PRODID:-//ChamberMaster//Event Calendar 2.0//EN
METHOD:PUBLISH
X-PUBLISHED-TTL:P3D
REFRESH-INTERVAL:P3D
CALSCALE:GREGORIAN
BEGIN:VEVENT
DTSTART:20191128T144500Z
DTEND:20191128T170000Z
X-MICROSOFT-CDO-ALLDAYEVENT:FALSE
SUMMARY:ThunderCloud Subs Turkey Trot
DESCRIPTION:The ThunderCloud Subs Turkey Trot is a beloved Thanksgiving Day tradition featuring four races (a timed five-mile run\, untimed five-mile run\, one-mile walk/run\, and Kids K) alongside live music\, children's activities\, a raffle and runner prizes. The morning of family fun kicks off at The Long Center for the Performing Arts before the Kids K at 8:45 a.m. One hundred percent of the proceeds from the race go to Caritas of Austin\, a local nonprofit dedicated to preventing and ending homelessness for people in Greater Austin. Nearly $3.8 million has been raised for Caritas since the Trot's inception in 1991. Registration includes a T-shirt and a run guide.
X-ALT-DESC;FMTTYPE=text/html:The ThunderCloud Subs Turkey Trot is a beloved Thanksgiving Day tradition featuring four races (a timed five-mile run\, untimed five-mile run\, one-mile walk/run\, and Kids K) alongside live music\, children&rsquo\;s activities\, a raffle and runner prizes. The morning of family fun kicks off at The Long Center for the Performing Arts before the Kids K at 8:45 a.m. One hundred percent of the proceeds from the race go to Caritas of Austin\, a local nonprofit dedicated to preventing and ending homelessness for people in Greater Austin. Nearly $3.8 million has been raised for Caritas since the Trot&rsquo\;s inception in 1991. Registration includes a T-shirt and a run guide.
LOCATION:Long Center for the Performing Arts\, 701 W. Riverside Dr.\, Austin\, Tx 78701
UID:e.2123.10028
SEQUENCE:3
DTSTAMP:20260422T211200Z
URL:https://laketravischamberfest.com/events/details/thundercloud-subs-turkey-trot-10028
END:VEVENT

END:VCALENDAR
