BEGIN:VCALENDAR
VERSION:2.0
PRODID:-//ChamberMaster//Event Calendar 2.0//EN
METHOD:PUBLISH
X-PUBLISHED-TTL:P3D
REFRESH-INTERVAL:P3D
CALSCALE:GREGORIAN
BEGIN:VEVENT
DTSTART:20201114T150000Z
DTEND:20201114T210000Z
X-MICROSOFT-CDO-ALLDAYEVENT:FALSE
SUMMARY:Thrive 2020
DESCRIPTION:REGISTER HERE\n\nTHRIVE 2020 has assembled a roster of some of the best legal\, financial\, accounting and insurance minds in the industry. During this collaborative virtual conference\, you'll learn powerful ideas used by today's most successful families and investors.\n\nIn one day\, you will learn from top professionals on the most critical concerns of today's most successful and affluent families.\n\nDuring Thrive 2020\, you will learn:\n\n	How to make smart decisions about your money\n	How to mitigate your taxes   Get your wealth off of the Government plan\n	How to take care of your heirs\n	How to ensure your assets are never unjustly taken through litigation or divorce\n	How to magnify your charitable gifts
X-ALT-DESC;FMTTYPE=text/html:<span style="font-family:arial\,sans-serif\;"><span style="box-sizing:border-box\;padding:0px\;border:0px\;outline:0px\;vertical-align:baseline\;background:transparent\;"><a href="https://saveyourwealth.com/"><strong><span style="background-color:#FFFF00\;">REGISTER HERE</span></strong></a><br />\nTHRIVE 2020</span>&nbsp\;has assembled a roster of some of the best legal\, financial\, accounting and insurance minds in the industry. During this collaborative virtual conference\, you&rsquo\;ll learn powerful ideas used by today&rsquo\;s most successful families and investors.</span><br />\n<span style="font-family:arial\,sans-serif\;">In one day\, you will learn from top professionals on the most critical concerns of today&rsquo\;s most successful and affluent families.</span><br />\n<span style="font-family:arial\,sans-serif\;">During Thrive 2020\, you will learn:</span>\n<ul>\n	<li style="margin:20px\;box-sizing:border-box\;padding:0px\;border:0px\;outline:0px\;vertical-align:baseline\;background:transparent\;line-height:1.5em\;"><span style="font-family:arial\,sans-serif\;">How to make smart decisions about your money</span></li>\n	<li style="margin:20px\;box-sizing:border-box\;padding:0px\;border:0px\;outline:0px\;vertical-align:baseline\;background:transparent\;line-height:1.5em\;"><span style="font-family:arial\,sans-serif\;">How to mitigate your taxes &ndash\; Get your wealth off of the Government plan</span></li>\n	<li style="margin:20px\;box-sizing:border-box\;padding:0px\;border:0px\;outline:0px\;vertical-align:baseline\;background:transparent\;line-height:1.5em\;"><span style="font-family:arial\,sans-serif\;">How to take care of your heirs</span></li>\n	<li style="margin:20px\;box-sizing:border-box\;padding:0px\;border:0px\;outline:0px\;vertical-align:baseline\;background:transparent\;line-height:1.5em\;"><span style="font-family:arial\,sans-serif\;">How to ensure your assets are never unjustly taken through litigation or divorce</span></li>\n	<li style="margin:20px\;box-sizing:border-box\;padding:0px\;border:0px\;outline:0px\;vertical-align:baseline\;background:transparent\;line-height:1.5em\;"><span style="font-family:arial\,sans-serif\;">How to magnify your charitable gifts</span></li>\n</ul>\n
LOCATION:
UID:e.2123.10293
SEQUENCE:3
DTSTAMP:20260423T151418Z
URL:https://laketravischamberfest.com/events/details/thrive-2020-10293
END:VEVENT

END:VCALENDAR
