BEGIN:VCALENDAR
VERSION:2.0
PRODID:-//ChamberMaster//Event Calendar 2.0//EN
METHOD:PUBLISH
X-PUBLISHED-TTL:P3D
REFRESH-INTERVAL:P3D
CALSCALE:GREGORIAN
BEGIN:VEVENT
DTSTART:20181020T003000Z
DTEND:20181028T210000Z
X-MICROSOFT-CDO-ALLDAYEVENT:FALSE
SUMMARY:The Unexpected Guest
DESCRIPTION:TexARTS Professional Season presents The Unexpected Guest. Lost in the fog\, a stranger seeks refuge in a nearby house only to find a man shot dead and his wife standing over him with a smoking gun. The wife's dazed confession is anything but convincing and the unexpected guest decides to help concoct her cover story. As they plot\, a tangled web of lies reveals family secrets and chilling motives. It is a classic Agatha Christie whodunit\, keeping tension high until the very end. Directed by J. Robert Moore. Starring: Aaron Black\, Mary Cox\, Sarah Fleming Walker\, Jeff Jeffers\, Brandon Lindsey\, Tyler Keyes\, Carson Petocz\, Val Williams\, Ben Wolfe "The Unexpected Guest" is presented by special arrangement with SAMUEL FRENCH\, INC.
X-ALT-DESC;FMTTYPE=text/html:TexARTS Professional Season presents The Unexpected Guest. Lost in the fog\, a stranger seeks refuge in a nearby house only to find a man shot dead and his wife standing over him with a smoking gun. The wife&rsquo\;s dazed confession is anything but convincing and the unexpected guest decides to help concoct her cover story. As they plot\, a tangled web of lies reveals family secrets and chilling motives. It is a classic Agatha Christie whodunit\, keeping tension high until the very end. Directed by J. Robert Moore. Starring: Aaron Black\, Mary Cox\, Sarah Fleming Walker\, Jeff Jeffers\, Brandon Lindsey\, Tyler Keyes\, Carson Petocz\, Val Williams\, Ben Wolfe &ldquo\;The Unexpected Guest&rdquo\; is presented by special arrangement with SAMUEL FRENCH\, INC.
LOCATION:TexARTS Association 2300 Lohman's Spur\, Suite 160 Austin\, TX 78734
UID:e.2123.9720
SEQUENCE:3
DTSTAMP:20260422T010641Z
URL:https://laketravischamberfest.com/events/details/the-unexpected-guest-10-19-2018-9720
END:VEVENT

END:VCALENDAR
