BEGIN:VCALENDAR
VERSION:2.0
PRODID:-//ChamberMaster//Event Calendar 2.0//EN
METHOD:PUBLISH
X-PUBLISHED-TTL:P3D
REFRESH-INTERVAL:P3D
CALSCALE:GREGORIAN
BEGIN:VEVENT
DTSTART:20200113T163000Z
DTEND:20200113T173000Z
X-MICROSOFT-CDO-ALLDAYEVENT:FALSE
SUMMARY:The Truth About Your Aging Brain
DESCRIPTION:Will we lose our memory as we age? Is there anything I can do to avoid having dementia? These are only a few of the questions to be addressed in the upcoming seminar on brain health and the aging brain by Lake Travis Senior Services at the Lake Travis Community Library. The goal of this month's seminar is to debunk many of the longstanding myths associated with age related changes\, getting older\, and brain diseases such as Alzheimer's.
X-ALT-DESC;FMTTYPE=text/html:Will we lose our memory as we age? Is there anything I can do to avoid having dementia? These are only a few of the questions to be addressed in the upcoming seminar on brain health and the aging brain by Lake Travis Senior Services at the Lake Travis Community Library. The goal of this month&rsquo\;s seminar is to debunk many of the longstanding myths associated with age related changes\, getting older\, and brain diseases such as Alzheimer&rsquo\;s.
LOCATION:Lake Travis Community Library 1938 Lohmans Crossing Austin\, Texas 78734
UID:e.2123.10057
SEQUENCE:3
DTSTAMP:20260423T014333Z
URL:https://laketravischamberfest.com/events/details/the-truth-about-your-aging-brain-10057
END:VEVENT

END:VCALENDAR
