BEGIN:VCALENDAR
VERSION:2.0
PRODID:-//ChamberMaster//Event Calendar 2.0//EN
METHOD:PUBLISH
X-PUBLISHED-TTL:P3D
REFRESH-INTERVAL:P3D
CALSCALE:GREGORIAN
BEGIN:VEVENT
DTSTART:20181123T150000Z
DTEND:20181126T010000Z
X-MICROSOFT-CDO-ALLDAYEVENT:FALSE
SUMMARY:The Spa at Lakeway Black Friday Weekend
DESCRIPTION:Offering services at a great discount\, The Spa at Lakeway invites guests to the perfect place to relax and unwind from the stress of the holiday season\, while overlooking Lake Travis. On Friday\, Nov. 23   Sunday\, Nov. 25\, guests can enjoy a 50-minute Classic Massage and a 50-minute Signature Facial for $99 on Black Friday weekend. Appointments can be made by calling The Spa at (512) 261-7350.
X-ALT-DESC;FMTTYPE=text/html:Offering services at a great discount\, The Spa at Lakeway invites guests to the perfect place to relax and unwind from the stress of the holiday season\, while overlooking Lake Travis. On Friday\, Nov. 23 &ndash\; Sunday\, Nov. 25\, guests can enjoy a 50-minute Classic Massage and a 50-minute Signature Facial for $99 on Black Friday weekend. Appointments can be made by calling The Spa at (512) 261-7350.
LOCATION:101 Lakeway Dr\, Lakeway TX 78734
UID:e.2123.9790
SEQUENCE:3
DTSTAMP:20260422T024540Z
URL:https://laketravischamberfest.com/events/details/the-spa-at-lakeway-black-friday-weekend-9790
END:VEVENT

END:VCALENDAR
