BEGIN:VCALENDAR
VERSION:2.0
PRODID:-//ChamberMaster//Event Calendar 2.0//EN
METHOD:PUBLISH
X-PUBLISHED-TTL:P3D
REFRESH-INTERVAL:P3D
CALSCALE:GREGORIAN
BEGIN:VEVENT
DTSTART:20190213T230000Z
DTEND:20190214T020000Z
X-MICROSOFT-CDO-ALLDAYEVENT:FALSE
SUMMARY:The Quintessential Galentine’s Day Bash!
DESCRIPTION:Quintessence Plastic Surgery is celebrating Galentine's Day with a night of drinks (provided by the Bubble Tap Trailer) and laughs with your favorite gals from QPS. This event is open to anyone who's feeling the Galentine's Day spirit and is located inside Quintessence Plastic Surgery's office in Austin\, TX. This is a great opportunity to meet with Dr. Aisha White\, the mastermind behind Quintessence Plastic Surgery\, and have a night out with the girls!
X-ALT-DESC;FMTTYPE=text/html:Quintessence Plastic Surgery is celebrating Galentine&rsquo\;s Day with a night of drinks (provided by the Bubble Tap Trailer) and laughs with your favorite gals from QPS. This event is open to anyone who&rsquo\;s feeling the Galentine&rsquo\;s Day spirit and is located inside Quintessence Plastic Surgery&rsquo\;s office in Austin\, TX. This is a great opportunity to meet with Dr. Aisha White\, the mastermind behind Quintessence Plastic Surgery\, and have a night out with the girls!
LOCATION:Quintessence Plastic Surgery
UID:e.2123.9828
SEQUENCE:3
DTSTAMP:20260422T085327Z
URL:https://laketravischamberfest.com/events/details/the-quintessential-galentine-s-day-bash-9828
END:VEVENT

END:VCALENDAR
