BEGIN:VCALENDAR
VERSION:2.0
PRODID:-//ChamberMaster//Event Calendar 2.0//EN
METHOD:PUBLISH
X-PUBLISHED-TTL:P3D
REFRESH-INTERVAL:P3D
CALSCALE:GREGORIAN
BEGIN:VEVENT
DTSTART:20190821T190000Z
DTEND:20190821T200000Z
X-MICROSOFT-CDO-ALLDAYEVENT:FALSE
SUMMARY:"The Public" Movie Showing
DESCRIPTION:The Public Movie Showing - Wednesday\, August 21st at 2pm - A group of homeless library patrons are left with nowhere to go after shelters fill to capacity. A sit-in style act of civil disobedience quickly escalates into a standoff with local police\, leaving librarians caught in the middle. Directed by Emilio Estevez\, watch this movie on our big screen!
X-ALT-DESC;FMTTYPE=text/html:The Public Movie Showing - Wednesday\, August 21st at 2pm - A group of homeless library patrons are left with nowhere to go after shelters fill to capacity. A sit-in style act of civil disobedience quickly escalates into a standoff with local police\, leaving librarians caught in the middle. Directed by Emilio Estevez\, watch this movie on our big screen!
LOCATION:Lake Travis Community Library 1938 Lohmans Crossing Austin\, Texas 78734
UID:e.2123.9956
SEQUENCE:3
DTSTAMP:20260422T165323Z
URL:https://laketravischamberfest.com/events/details/the-public-movie-showing-9956
END:VEVENT

END:VCALENDAR
