BEGIN:VCALENDAR
VERSION:2.0
PRODID:-//ChamberMaster//Event Calendar 2.0//EN
METHOD:PUBLISH
X-PUBLISHED-TTL:P3D
REFRESH-INTERVAL:P3D
CALSCALE:GREGORIAN
BEGIN:VEVENT
DTSTART:20171215T223000Z
DTEND:20171215T233000Z
X-MICROSOFT-CDO-ALLDAYEVENT:FALSE
SUMMARY:The Musicians Woodshed Sessions
DESCRIPTION:The Musicians Woodshed Sessions - Friday\, December 15th at 4:30pm - Join us for an eclectic live performance.
X-ALT-DESC;FMTTYPE=text/html:The Musicians Woodshed Sessions - Friday\, December 15th at 4:30pm - Join us for an eclectic live performance.
LOCATION:Lake Travis Community Library 1938 Lohmans Crossing Austin\, Texas 78734
UID:e.2123.9516
SEQUENCE:3
DTSTAMP:20260421T100029Z
URL:https://laketravischamberfest.com/events/details/the-musicians-woodshed-sessions-12-15-2017-9516
END:VEVENT

END:VCALENDAR
