BEGIN:VCALENDAR
VERSION:2.0
PRODID:-//ChamberMaster//Event Calendar 2.0//EN
METHOD:PUBLISH
X-PUBLISHED-TTL:P3D
REFRESH-INTERVAL:P3D
CALSCALE:GREGORIAN
BEGIN:VEVENT
DTSTART:20200215T013000Z
DTEND:20200301T220000Z
X-MICROSOFT-CDO-ALLDAYEVENT:FALSE
SUMMARY:The Marvelous Wonderettes: Dream On
DESCRIPTION:The Marvelous Wonderettes return to TexARTS in an all new show! It's 1969\, and The Marvelous Wonderettes are back at Springfield High (Go Chipmunks!) to throw a retirement party for their favorite homeroom teacher. As the girls sing their way through the greatest girl-group hits of the '60s and bid Ms. McPherson a fond farewell\, one of the Wonderettes reveals she'll also be saying goodbye to search for success and happiness on her own. Act II finds the girls back together as the class of 1958 celebrates their 20-year reunion. The classic pop and rock hits of the '70s provide the perfect soundtrack for these old friends to catch up on the places life has led them\, all performed with their own marvelous spin! Featuring the hit songs: "Gimme Some Lovin\," "Build Me Up\, Buttercup\," "Love Will Keep Us Together\," "We Are Family\," and more!
X-ALT-DESC;FMTTYPE=text/html:The Marvelous Wonderettes return to TexARTS in an all new show! It&rsquo\;s 1969\, and The Marvelous Wonderettes are back at Springfield High (Go Chipmunks!) to throw a retirement party for their favorite homeroom teacher. As the girls sing their way through the greatest girl-group hits of the &#39\;60s and bid Ms. McPherson a fond farewell\, one of the Wonderettes reveals she&rsquo\;ll also be saying goodbye to search for success and happiness on her own. Act II finds the girls back together as the class of 1958 celebrates their 20-year reunion. The classic pop and rock hits of the &#39\;70s provide the perfect soundtrack for these old friends to catch up on the places life has led them\, all performed with their own marvelous spin! Featuring the hit songs: &ldquo\;Gimme Some Lovin\,&quot\; &ldquo\;Build Me Up\, Buttercup\,&quot\; &ldquo\;Love Will Keep Us Together\,&quot\; &ldquo\;We Are Family\,&quot\; and more!
LOCATION:Kam & James Morris Theatre 2300 Lohman's Spur Road Austin\, Texas\, 78734
UID:e.2123.10053
SEQUENCE:3
DTSTAMP:20260423T030329Z
URL:https://laketravischamberfest.com/events/details/the-marvelous-wonderettes-dream-on-10053
END:VEVENT

END:VCALENDAR
