BEGIN:VCALENDAR
VERSION:2.0
PRODID:-//ChamberMaster//Event Calendar 2.0//EN
METHOD:PUBLISH
X-PUBLISHED-TTL:P3D
REFRESH-INTERVAL:P3D
CALSCALE:GREGORIAN
BEGIN:VEVENT
DTSTART:20180621T140000Z
DTEND:20180621T220000Z
X-MICROSOFT-CDO-ALLDAYEVENT:FALSE
SUMMARY:The Longest Day
DESCRIPTION:Details: Join us on the Longest Day as we do what we love for those we love to benefit the Alzheimer's Association. First\, stop by the "Linked by Love" table. For a $1 donation receive a paper heart that you can personalize with your message of love to someone with Alzheimer's. Your heart will be added to our "Linked by Love" heart chain that will hang in our community. Then in the afternoon\, join us for a marathon bingo game interspersed with trivia\, music\, magic and prizes   all for a $5 donation per bingo card. Assorted snacks and beverages will be served. For more information or to RSVP\, call 512-347-1700.
X-ALT-DESC;FMTTYPE=text/html:Details: Join us on the Longest Day as we do what we love for those we love to benefit the Alzheimer&rsquo\;s Association. First\, stop by the &ldquo\;Linked by Love&rdquo\; table. For a $1 donation receive a paper heart that you can personalize with your message of love to someone with Alzheimer&rsquo\;s. Your heart will be added to our &ldquo\;Linked by Love&rdquo\; heart chain that will hang in our community. Then in the afternoon\, join us for a marathon bingo game interspersed with trivia\, music\, magic and prizes &ndash\; all for a $5 donation per bingo card. Assorted snacks and beverages will be served. For more information or to RSVP\, call 512-347-1700.
LOCATION:Belmont Village Senior Living - West Lake Hills
UID:e.2123.9674
SEQUENCE:3
DTSTAMP:20260421T205535Z
URL:https://laketravischamberfest.com/events/details/the-longest-day-9674
END:VEVENT

END:VCALENDAR
