BEGIN:VCALENDAR
VERSION:2.0
PRODID:-//ChamberMaster//Event Calendar 2.0//EN
METHOD:PUBLISH
X-PUBLISHED-TTL:P3D
REFRESH-INTERVAL:P3D
CALSCALE:GREGORIAN
BEGIN:VEVENT
DTSTART:20180825T170000Z
DTEND:20180902T183000Z
X-MICROSOFT-CDO-ALLDAYEVENT:FALSE
SUMMARY:The Legends of Robin Hood
DESCRIPTION:Hear ye! Hear ye! Directly from Sherwood Forest Faire\, Robin Hood and his merry band of outlaws are stirring up mischief this summer at Austin Scottish Rite Theater. Come see Robin\, Maid Marian\, Friar Tuck\, Little John\, and all the rest outwit the Sheriff of Nottingham in the original adventure story of Merry Olde England. With live music by Alan A Dale accompanying the fantastic Sherwood Forest Faire players\, this is action-packed fun for the whole family! Sherwood Forest Faire\, now in its ninth year\, is a popular Texas destination. This production\, especially written and produced for Austin Scottish Rite Theater's young audiences\, provides a rare opportunity for families to experience the characters of Sherwood Forest Faire indoors in a convenient Austin space.
X-ALT-DESC;FMTTYPE=text/html:Hear ye! Hear ye! Directly from Sherwood Forest Faire\, Robin Hood and his merry band of outlaws are stirring up mischief this summer at Austin Scottish Rite Theater. Come see Robin\, Maid Marian\, Friar Tuck\, Little John\, and all the rest outwit the Sheriff of Nottingham in the original adventure story of Merry Olde England. With live music by Alan A Dale accompanying the fantastic Sherwood Forest Faire players\, this is action-packed fun for the whole family! Sherwood Forest Faire\, now in its ninth year\, is a popular Texas destination. This production\, especially written and produced for Austin Scottish Rite Theater&rsquo\;s young audiences\, provides a rare opportunity for families to experience the characters of Sherwood Forest Faire indoors in a convenient Austin space.
LOCATION:Austin Scottish Rite Theater 207 W 18th St. Austin\, TX 78701
UID:e.2123.9704
SEQUENCE:3
DTSTAMP:20260421T222240Z
URL:https://laketravischamberfest.com/events/details/the-legends-of-robin-hood-9704
END:VEVENT

END:VCALENDAR
