BEGIN:VCALENDAR
VERSION:2.0
PRODID:-//ChamberMaster//Event Calendar 2.0//EN
METHOD:PUBLISH
X-PUBLISHED-TTL:P3D
REFRESH-INTERVAL:P3D
CALSCALE:GREGORIAN
BEGIN:VEVENT
DTSTART:20230211T013000Z
DTEND:20230227T033000Z
X-MICROSOFT-CDO-ALLDAYEVENT:FALSE
SUMMARY:The Last Five Years
DESCRIPTION:Jason Robert Brown's The Last Five Years is an emotionally powerful and intimate musical about two New Yorkers in their twenties who fall in and out of love over the course of five years. The show's unconventional structure consists of Cathy telling her story backwards while Jamie tells his story chronologically\; the two characters only meet once\, at their wedding in the middle of the show.
X-ALT-DESC;FMTTYPE=text/html:Jason Robert Brown&#39\;s The Last Five Years is an emotionally powerful and intimate musical about two New Yorkers in their twenties who fall in and out of love over the course of five years. The show&#39\;s unconventional structure consists of Cathy telling her story backwards while Jamie tells his story chronologically\; the two characters only meet once\, at their wedding in the middle of the show.
LOCATION:TexARTS Kam and James Morris Theatre
UID:e.2123.11690
SEQUENCE:3
DTSTAMP:20260423T095523Z
URL:https://laketravischamberfest.com/events/details/the-last-five-years-11690
END:VEVENT

END:VCALENDAR
