BEGIN:VCALENDAR
VERSION:2.0
PRODID:-//ChamberMaster//Event Calendar 2.0//EN
METHOD:PUBLISH
X-PUBLISHED-TTL:P3D
REFRESH-INTERVAL:P3D
CALSCALE:GREGORIAN
BEGIN:VEVENT
DTSTART:20220716T003000Z
DTEND:20220807T220000Z
X-MICROSOFT-CDO-ALLDAYEVENT:FALSE
SUMMARY:The Full Monty
DESCRIPTION:The Full Monty exposes the spirit and determination of six out-of-work steelworkers\, desperate for money and respect\, who find themselves contemplating a one-night-only striptease. Filled with "razor-sharp humor" and infectious music\, this is a one-of-a-kind musical that bares its soul to reveal its heart. DIRECTED BY KASEY RT GRAHAM CHOREOGRAPHED BY IAN LIBERTO MUSIC DIRECTED BY SUSAN FINNIGAN PLAYING JULY 15 - AUG. 7 TEX-ARTS.ORG | 512-852-9079
X-ALT-DESC;FMTTYPE=text/html:The Full Monty exposes the spirit and determination of six out-of-work steelworkers\, desperate for money and respect\, who find themselves contemplating a one-night-only striptease. Filled with &ldquo\;razor-sharp humor&rdquo\; and infectious music\, this is a one-of-a-kind musical that bares its soul to reveal its heart. DIRECTED BY KASEY RT GRAHAM CHOREOGRAPHED BY IAN LIBERTO MUSIC DIRECTED BY SUSAN FINNIGAN PLAYING JULY 15 - AUG. 7 TEX-ARTS.ORG | 512-852-9079
LOCATION:TexARTS Kam and James Morris Theatre
UID:e.2123.11129
SEQUENCE:3
DTSTAMP:20260423T190717Z
URL:https://laketravischamberfest.com/events/details/the-full-monty-11129
END:VEVENT

END:VCALENDAR
