BEGIN:VCALENDAR
VERSION:2.0
PRODID:-//ChamberMaster//Event Calendar 2.0//EN
METHOD:PUBLISH
X-PUBLISHED-TTL:P3D
REFRESH-INTERVAL:P3D
CALSCALE:GREGORIAN
BEGIN:VEVENT
DTSTART:20200521T173000Z
DTEND:20200521T183000Z
X-MICROSOFT-CDO-ALLDAYEVENT:FALSE
SUMMARY:THE "COVID SLIDE' AND SUMMER LEARNING WEBINAR
DESCRIPTION:We need to make sure our students do not go down the "Covid Slide"\, which is a term used to show the negative impact and learning losses students are experiencing due to Covid-19.  Huntington is helping students now combat this "Covid slide" and  we want to share our strategies with you!
X-ALT-DESC;FMTTYPE=text/html:We need to make sure our students do not go down the &quot\;Covid Slide&quot\;\, which is a term used to show the negative impact and learning losses students are experiencing due to Covid-19.&nbsp\; Huntington is helping students now combat this &quot\;Covid slide&quot\; and&nbsp\; we want to share our strategies with you!&nbsp\;
LOCATION:https://info.huntingtonhelps.com/COVID-Slide-and-Summer-Learning-Registration.html
UID:e.2123.10113
SEQUENCE:3
DTSTAMP:20260423T055530Z
URL:https://laketravischamberfest.com/events/details/the-covid-slide-and-summer-learning-webinar-10113
END:VEVENT

END:VCALENDAR
