BEGIN:VCALENDAR
VERSION:2.0
PRODID:-//ChamberMaster//Event Calendar 2.0//EN
METHOD:PUBLISH
X-PUBLISHED-TTL:P3D
REFRESH-INTERVAL:P3D
CALSCALE:GREGORIAN
BEGIN:VEVENT
DTSTART:20181231T230000Z
DTEND:20190101T033000Z
X-MICROSOFT-CDO-ALLDAYEVENT:FALSE
SUMMARY:The Countdown: New Year’s Eve at Lakeway Resort and Spa
DESCRIPTION:Lakeway Resort and Spa creates a distinct getaway bordering the urban allure of adjacent Austin\, and offers a lakeside respite to kick off the New Year with festive celebrations and dining experiences for a night to remember. On New Year's Eve\, guests are invited to capture final memories of 2018 in the lobby photo booth\, with a selection of accessories\, like hats\, whistles and party favors\, to add an element of style to every photo. Signature restaurant TR will present a decadent New Year's Eve pre-fixe menu\, for a southwestern take on traditional cuisine surrounded by views of Lake Travis. The night\, and the year\, will conclude in grandeur with a balloon drop in Back Porch Lobby Bar\, complete with sparklers and a champagne toast for adults.
X-ALT-DESC;FMTTYPE=text/html:Lakeway Resort and Spa creates a distinct getaway bordering the urban allure of adjacent Austin\, and offers a lakeside respite to kick off the New Year with festive celebrations and dining experiences for a night to remember. On New Year&rsquo\;s Eve\, guests are invited to capture final memories of 2018 in the lobby photo booth\, with a selection of accessories\, like hats\, whistles and party favors\, to add an element of style to every photo. Signature restaurant TR will present a decadent New Year&rsquo\;s Eve pre-fixe menu\, for a southwestern take on traditional cuisine surrounded by views of Lake Travis. The night\, and the year\, will conclude in grandeur with a balloon drop in Back Porch Lobby Bar\, complete with sparklers and a champagne toast for adults.
LOCATION:Lakeway Resort and Spa 101 Lakeway Drive\, Lakeway\, TX 78734
UID:e.2123.9806
SEQUENCE:3
DTSTAMP:20260422T060038Z
URL:https://laketravischamberfest.com/events/details/the-countdown-new-year-s-eve-at-lakeway-resort-and-spa-9806
END:VEVENT

END:VCALENDAR
