BEGIN:VCALENDAR
VERSION:2.0
PRODID:-//ChamberMaster//Event Calendar 2.0//EN
METHOD:PUBLISH
X-PUBLISHED-TTL:P3D
REFRESH-INTERVAL:P3D
CALSCALE:GREGORIAN
BEGIN:VEVENT
DTSTART:20180523T160000Z
DTEND:20180523T180000Z
X-MICROSOFT-CDO-ALLDAYEVENT:FALSE
SUMMARY:The Blueprint to Age Your Way
DESCRIPTION:Speaker: Debbie Pearson\, RN\, CCM\, TxCG Debbie has more than 40 years of experience at the bedside of thousands of patients as a nurse turned author. Join us for a book speaking and signing featuring Debbie Pearson as she shares her wisdom on how to Age Your Way. You will learn how to equip yourself and your family with a plan that leaves no question on your personal wishes for your aging strategy. Debbie's structured format provides the tools you need to record your wishes\, whether you're looking ahead to your own future planning or assisting an elderly relative. Lunch will be provided. RSVP to 512-402 -1800
X-ALT-DESC;FMTTYPE=text/html:Speaker: Debbie Pearson\, RN\, CCM\, TxCG Debbie has more than 40 years of experience at the bedside of thousands of patients as a nurse turned author. Join us for a book speaking and signing featuring Debbie Pearson as she shares her wisdom on how to Age Your Way. You will learn how to equip yourself and your family with a plan that leaves no question on your personal wishes for your aging strategy. Debbie&rsquo\;s structured format provides the tools you need to record your wishes\, whether you&rsquo\;re looking ahead to your own future planning or assisting an elderly relative. Lunch will be provided. RSVP to 512-402 -1800
LOCATION:Belmont Village - Lakeway -Information Center
UID:e.2123.9663
SEQUENCE:3
DTSTAMP:20260421T192622Z
URL:https://laketravischamberfest.com/events/details/the-blueprint-to-age-your-way-9663
END:VEVENT

END:VCALENDAR
