BEGIN:VCALENDAR
VERSION:2.0
PRODID:-//ChamberMaster//Event Calendar 2.0//EN
METHOD:PUBLISH
X-PUBLISHED-TTL:P3D
REFRESH-INTERVAL:P3D
CALSCALE:GREGORIAN
BEGIN:VEVENT
DTSTART:20181122T230000Z
DTEND:20181123T033000Z
X-MICROSOFT-CDO-ALLDAYEVENT:FALSE
SUMMARY:Thanksgiving Dinner at Lakeway Resort and Spa's T.R.
DESCRIPTION:Lakeway Resort and Spa invites guests to enjoy Thanksgiving tradition at signature restaurant\, T.R. On Thursday\, Nov. 22\, 2018\, a special dinner menu will be available for a festive feast option overlooking the beautiful Lake Travis. Thanksgiving Dinner will be available from 5 p.m. to 9:30 p.m. with a special 3-course menu\, including Harvest Corn & Fennel Chowder\, Oven Roasted Tom Turkey and In-House Smoked Brisket with sweet temptations of Pumpkin or Bourbon Street Pecan Pie.
X-ALT-DESC;FMTTYPE=text/html:Lakeway Resort and Spa invites guests to enjoy Thanksgiving tradition at signature restaurant\, T.R. On Thursday\, Nov. 22\, 2018\, a special dinner menu will be available for a festive feast option overlooking the beautiful Lake Travis. Thanksgiving Dinner will be available from 5 p.m. to 9:30 p.m. with a special 3-course menu\, including Harvest Corn &amp\; Fennel Chowder\, Oven Roasted Tom Turkey and In-House Smoked Brisket with sweet temptations of Pumpkin or Bourbon Street Pecan Pie.
LOCATION:Lakeway Resort and Spa
UID:e.2123.9765
SEQUENCE:3
DTSTAMP:20260422T024627Z
URL:https://laketravischamberfest.com/events/details/thanksgiving-dinner-at-lakeway-resort-and-spa-s-t-r-9765
END:VEVENT

END:VCALENDAR
