BEGIN:VCALENDAR
VERSION:2.0
PRODID:-//ChamberMaster//Event Calendar 2.0//EN
METHOD:PUBLISH
X-PUBLISHED-TTL:P3D
REFRESH-INTERVAL:P3D
CALSCALE:GREGORIAN
BEGIN:VEVENT
DTSTART:20181122T170000Z
DTEND:20181122T200000Z
X-MICROSOFT-CDO-ALLDAYEVENT:FALSE
SUMMARY:Thanksgiving Brunch at Lakeway Resort and Spa's T.R.
DESCRIPTION:Lakeway Resort and Spa invites guests to enjoy Thanksgiving tradition at signature restaurant\, T.R. On Thursday\, Nov. 22\, 2018\, a special brunch menu will be available for a festive feast option overlooking the beautiful Lake Travis. Offered from 11 a.m. to 2 p.m.\, Thanksgiving Brunch selections include Robbery's Buttermilk Pancakes with decadent toppings\, Oven Roasted Tom Turkey with cranberry sauce and In-House Smoked Angus Brisket with house-made coffee infused BBQ Sauce. Adults dine for $65 per plate\, children ages 6-12 dine for $30 and children ages 3-5 for $15. Brunch is complimentary for children under the age of 2. Reservations can be made by calling (512) 261-7323.
X-ALT-DESC;FMTTYPE=text/html:Lakeway Resort and Spa invites guests to enjoy Thanksgiving tradition at signature restaurant\, T.R. On Thursday\, Nov. 22\, 2018\, a special brunch menu will be available for a festive feast option overlooking the beautiful Lake Travis. Offered from 11 a.m. to 2 p.m.\, Thanksgiving Brunch selections include Robbery&rsquo\;s Buttermilk Pancakes with decadent toppings\, Oven Roasted Tom Turkey with cranberry sauce and In-House Smoked Angus Brisket with house-made coffee infused BBQ Sauce. Adults dine for $65 per plate\, children ages 6-12 dine for $30 and children ages 3-5 for $15. Brunch is complimentary for children under the age of 2. Reservations can be made by calling (512) 261-7323.
LOCATION:Lakeway Resort and Spa
UID:e.2123.9764
SEQUENCE:3
DTSTAMP:20260422T024748Z
URL:https://laketravischamberfest.com/events/details/thanksgiving-brunch-at-lakeway-resort-and-spa-s-t-r-9764
END:VEVENT

END:VCALENDAR
