BEGIN:VCALENDAR
VERSION:2.0
PRODID:-//ChamberMaster//Event Calendar 2.0//EN
METHOD:PUBLISH
X-PUBLISHED-TTL:P3D
REFRESH-INTERVAL:P3D
CALSCALE:GREGORIAN
BEGIN:VEVENT
DTSTART;VALUE=DATE:20201123
DTEND;VALUE=DATE:20201126
TRANSP:TRANSPARENT
X-MICROSOFT-CDO-ALLDAYEVENT:TRUE
SUMMARY:Thanksgiving Break Musical Theatre Camp
DESCRIPTION:TexARTS Thanksgiving Break Camp   The Best of Frozen Ages 5   14 Come with us to the Kingdom of Arendelle for the "Best of Frozen" musical theatre camp! We'll join Anna and Elsa in this disney favorite\, and sing the unforgettable songs from the film and Broadway musical. You'll learn simple dance combinations\, make crafts\, and more! Half-day and full day options available.
X-ALT-DESC;FMTTYPE=text/html:TexARTS Thanksgiving Break Camp &ndash\; The Best of Frozen Ages 5 &ndash\; 14 Come with us to the Kingdom of Arendelle for the &ldquo\;Best of Frozen&ldquo\; musical theatre camp! We&rsquo\;ll join Anna and Elsa in this disney favorite\, and sing the unforgettable songs from the film and Broadway musical. You&rsquo\;ll learn simple dance combinations\, make crafts\, and more! Half-day and full day options available.
LOCATION:TexARTS Association 2300 Lohman's Spur Suite 160\, Austin\, TX 78734
UID:e.2123.10169
SEQUENCE:3
DTSTAMP:20260423T151643Z
URL:https://laketravischamberfest.com/events/details/thanksgiving-break-musical-theatre-camp-10169
END:VEVENT

END:VCALENDAR
