BEGIN:VCALENDAR
VERSION:2.0
PRODID:-//ChamberMaster//Event Calendar 2.0//EN
METHOD:PUBLISH
X-PUBLISHED-TTL:P3D
REFRESH-INTERVAL:P3D
CALSCALE:GREGORIAN
BEGIN:VEVENT
DTSTART;VALUE=DATE:20230603
DTEND;VALUE=DATE:20230604
TRANSP:TRANSPARENT
X-MICROSOFT-CDO-ALLDAYEVENT:TRUE
SUMMARY:Texas Trail Running Festival
DESCRIPTION:Combine one of Texas' best swimming holes with great single track. Add live music\, a beautiful privately owned ranch\, outdoor movies\, free prize giveaways\, food trucks\, games\, Family and Kids Zone\, bounce houses\, and trail running all day and night\, and you have the Texas Trail Running Festival! We are also offering a really cool schedule with racing options all morning\, day and night! Come camp out with us for the whole weekend\, or make a quick trip from town for part of the day. A quick drive from Austin\, not far at all from San Antonio & well worth the drive or flight from anywhere in the world. This is the Texas trail running event of the year!
X-ALT-DESC;FMTTYPE=text/html:Combine one of Texas&#39\; best swimming holes with great single track. Add live music\, a beautiful privately owned ranch\, outdoor movies\, free prize giveaways\, food trucks\, games\, Family and Kids Zone\, bounce houses\, and trail running all day and night\, and you have the Texas Trail Running Festival! We are also offering a really cool schedule with racing options all morning\, day and night! Come camp out with us for the whole weekend\, or make a quick trip from town for part of the day. A quick drive from Austin\, not far at all from San Antonio &amp\; well worth the drive or flight from anywhere in the world. This is the Texas trail running event of the year!
LOCATION:Krause Springs
UID:e.2123.11165
SEQUENCE:3
DTSTAMP:20260423T040716Z
URL:https://laketravischamberfest.com/events/details/texas-trail-running-festival-11165
END:VEVENT

END:VCALENDAR
