BEGIN:VCALENDAR
VERSION:2.0
PRODID:-//ChamberMaster//Event Calendar 2.0//EN
METHOD:PUBLISH
X-PUBLISHED-TTL:P3D
REFRESH-INTERVAL:P3D
CALSCALE:GREGORIAN
BEGIN:VEVENT
DTSTART:20210821T183000Z
DTEND:20210821T220000Z
X-MICROSOFT-CDO-ALLDAYEVENT:FALSE
SUMMARY:TexARTS Youth "The Nutcracker" Auditions
DESCRIPTION:Saturday Aug. 21\, 2021 The Nutcracker Auditions TexARTS Youth Ballet Theatre invites dancers to enroll for our youth production of "The Nutcracker!" This year's production features the beloved traditional ballet variations and new numbers based in tap\, jazz\, and hip hop. Auditions will be held Aug 21\, 2021 from 1:30-5:00pm. Students\, ages 5-16\, must be enrolled in this production-based class prior to the placement auditions. Rehearsals will take place on Saturdays from 1:30-5:00pm beginning Aug. 28 through Nov. 27. Public performances will be held on December 4 and 5\, 2021 at the TexARTS Kam & James Morris Theatre in Lakeway. For more information or to enroll visit tex-arts.org or call our office at 512-852-9079x104. Tuition is $600 for ages 8-16 and $400 for ages 5-7. TexARTS is a nonprofit organization that offers year-round instruction in acting\, voice\, and dance as well as completely staged youth and professional productions. Founded in 2005\, TexARTS' mission is to enrich the human experience by producing classic American musicals and plays and to educate\, prepare and promote exceptional talent to achieve their fullest as artists\, leaders\, and global citizens. For more information or to register for TexARTs' upcoming after school and weekend arts education programs\, please visit www.tex-arts.org or call (512) 852-9079 ext 104.
X-ALT-DESC;FMTTYPE=text/html:Saturday Aug. 21\, 2021 The Nutcracker Auditions TexARTS Youth Ballet Theatre invites dancers to enroll for our youth production of &quot\;The Nutcracker!&quot\; This year&#39\;s production features the beloved traditional ballet variations and new numbers based in tap\, jazz\, and hip hop. Auditions will be held Aug 21\, 2021 from 1:30-5:00pm. Students\, ages 5-16\, must be enrolled in this production-based class prior to the placement auditions. Rehearsals will take place on Saturdays from 1:30-5:00pm beginning Aug. 28 through Nov. 27. Public performances will be held on December 4 and 5\, 2021 at the TexARTS Kam &amp\; James Morris Theatre in Lakeway. For more information or to enroll visit tex-arts.org or call our office at 512-852-9079x104. Tuition is $600 for ages 8-16 and $400 for ages 5-7. TexARTS is a nonprofit organization that offers year-round instruction in acting\, voice\, and dance as well as completely staged youth and professional productions. Founded in 2005\, TexARTS&#39\; mission is to enrich the human experience by producing classic American musicals and plays and to educate\, prepare and promote exceptional talent to achieve their fullest as artists\, leaders\, and global citizens. For more information or to register for TexARTs&#39\; upcoming after school and weekend arts education programs\, please visit www.tex-arts.org or call (512) 852-9079 ext 104.
LOCATION:TexARTS Association 2300 Lohman's Sput STE 160 Austin\, TX 78734
UID:e.2123.10918
SEQUENCE:3
DTSTAMP:20260424T041422Z
URL:https://laketravischamberfest.com/events/details/texarts-youth-the-nutcracker-auditions-10918
END:VEVENT

END:VCALENDAR
