BEGIN:VCALENDAR
VERSION:2.0
PRODID:-//ChamberMaster//Event Calendar 2.0//EN
METHOD:PUBLISH
X-PUBLISHED-TTL:P3D
REFRESH-INTERVAL:P3D
CALSCALE:GREGORIAN
BEGIN:VEVENT
DTSTART;VALUE=DATE:20230530
DTEND;VALUE=DATE:20230812
TRANSP:TRANSPARENT
X-MICROSOFT-CDO-ALLDAYEVENT:TRUE
SUMMARY:TexARTS Summer Camps!
DESCRIPTION:Over the course of our one-week camp\, students will craft their own props\, decorate their own simple set\, and create costume accessories to use in their end-of-camp showing for family and friends. Previous experience is not required\, all ages and levels are welcome! TexARTS' musical theater summer camps are a fun foray into the world of theater! Our camps are led by professional teaching artists from throughout the Austin area who coach students in acting\, singing\, and dance. Students ages 5-12 will learn songs\, scenes\, and dances to their favorite hits from the theme of the week.
X-ALT-DESC;FMTTYPE=text/html:Over the course of our one-week camp\, students will craft their own props\, decorate their own simple set\, and create costume accessories to use in their end-of-camp showing for family and friends. Previous experience is not required\, all ages and levels are welcome! TexARTS&#39\; musical theater summer camps are a fun foray into the world of theater! Our camps are led by professional teaching artists from throughout the Austin area who coach students in acting\, singing\, and dance. Students ages 5-12 will learn songs\, scenes\, and dances to their favorite hits from the theme of the week.
LOCATION:TexARTS Association 2300 Lohman's Spur Rd. STE 160 Lakeway\, TX 78734
UID:e.2123.11715
SEQUENCE:3
DTSTAMP:20260423T012937Z
URL:https://laketravischamberfest.com/events/details/texarts-summer-camps-11715
END:VEVENT

END:VCALENDAR
