BEGIN:VCALENDAR
VERSION:2.0
PRODID:-//ChamberMaster//Event Calendar 2.0//EN
METHOD:PUBLISH
X-PUBLISHED-TTL:P3D
REFRESH-INTERVAL:P3D
CALSCALE:GREGORIAN
BEGIN:VEVENT
DTSTART;VALUE=DATE:20240528
DTEND;VALUE=DATE:20240810
TRANSP:TRANSPARENT
X-MICROSOFT-CDO-ALLDAYEVENT:TRUE
SUMMARY:TexARTS Summer Camps!
DESCRIPTION:Looking to add a little Musical Theatre magic to your summer schedule? Enroll today in a TexARTS "Best of" performing arts Summer Camp. Including themes like Barbie\, Encanto\, Wonka\, Matilda and many more! These one-week camps give your little one an opportunity to dip their toes into musical theatre through some of their favorite tunes. We offer both half-day and full-day options and two age sections of 5-8 & 9-11\, which end in a mini studio performance. We also offer "specialty: performing arts Summer Camps\; including Sounds of Summer: Taylor's Version\, Stage Make-up\, Comedy Camp\, and Technical Theatre. These one-week camps give your student an opportunity to experience various types of fun in and around the theatre. Depending on the camp\, they can explore the techniques of stage make-up\, create their own comedic sketches\, learn the art of stage props or even frame their own shots for YouTube. Ages 9+ Both Full day and half day camp options available. Camps start at $275\, $50 discount for enrollments before 2/28/24. Scholarships and aftercare are available.
X-ALT-DESC;FMTTYPE=text/html:Looking to add a little Musical Theatre magic to your summer schedule? Enroll today in a TexARTS &ldquo\;Best of&rdquo\; performing arts Summer Camp. Including themes like Barbie\, Encanto\, Wonka\, Matilda and many more! These one-week camps give your little one an opportunity to dip their toes into musical theatre through some of their favorite tunes. We offer both half-day and full-day options and two age sections of 5-8 &amp\; 9-11\, which end in a mini studio performance. We also offer &quot\;specialty: performing arts Summer Camps\; including Sounds of Summer: Taylor&rsquo\;s Version\, Stage Make-up\, Comedy Camp\, and Technical Theatre. These one-week camps give your student an opportunity to experience various types of fun in and around the theatre. Depending on the camp\, they can explore the techniques of stage make-up\, create their own comedic sketches\, learn the art of stage props or even frame their own shots for YouTube. Ages 9+ Both Full day and half day camp options available. Camps start at $275\, $50 discount for enrollments before 2/28/24. Scholarships and aftercare are available.
LOCATION:TexARTS Association 1110 RR 620 S Lakeway\, TX 78734
UID:e.2123.12572
SEQUENCE:3
DTSTAMP:20260422T072559Z
URL:https://laketravischamberfest.com/events/details/texarts-summer-camps-05-28-2024-12572
END:VEVENT

END:VCALENDAR
